|SUCCESS| pw140128 [PATCH] crypto/mvsam: fix build

dpdklab at iol.unh.edu dpdklab at iol.unh.edu
Wed May 15 19:22:46 CEST 2024


Test-Label: iol-unit-arm64-testing
Test-Status: SUCCESS
http://dpdk.org/patch/140128

_Testing PASS_

Submitter: Thomas Monjalon <thomas at monjalon.net>
Date: Wednesday, May 15 2024 16:34:14 
DPDK git baseline: Repo:dpdk
  Branch: master
  CommitID:7e06c0de1952d3109a5b0c4779d7e7d8059c9d78

140128 --> testing pass

Test environment and result as below:

+-----------------------+----------------+------------------------------+---------------------------+
|      Environment      | dpdk_unit_test | cryptodev_sw_snow3g_autotest | cryptodev_sw_zuc_autotest |
+=======================+================+==============================+===========================+
| Fedora 37 (ARM)       | PASS           | SKIPPED                      | SKIPPED                   |
+-----------------------+----------------+------------------------------+---------------------------+
| Debian 12 (arm)       | PASS           | PASS                         | PASS                      |
+-----------------------+----------------+------------------------------+---------------------------+
| CentOS Stream 9 (ARM) | PASS           | SKIPPED                      | SKIPPED                   |
+-----------------------+----------------+------------------------------+---------------------------+
| Fedora 38 (ARM)       | PASS           | SKIPPED                      | SKIPPED                   |
+-----------------------+----------------+------------------------------+---------------------------+
| Fedora 39 (ARM)       | PASS           | SKIPPED                      | SKIPPED                   |
+-----------------------+----------------+------------------------------+---------------------------+


Fedora 37 (ARM)
	Kernel: Depends on container host
	Compiler: gcc 12.3.1

Debian 12 (arm)
	Kernel: Container Host Kernel
	Compiler: gcc 12.2.0

CentOS Stream 9 (ARM)
	Kernel: Container Host Kernel
	Compiler: gcc 11.4.1

Fedora 38 (ARM)
	Kernel: Depends on container host
	Compiler: gcc 13.2.1

Fedora 39 (ARM)
	Kernel: Depends on container host
	Compiler: gcc 13.2.1

To view detailed results, visit:
https://lab.dpdk.org/results/dashboard/patchsets/29966/

UNH-IOL DPDK Community Lab

To manage your email subscriptions, visit: 
https://lab.dpdk.org/results/dashboard/preferences/subscriptions/


More information about the test-report mailing list