|SUCCESS| [GIT MASTER] 51783c9b605a408ee9d72200347de6e5cbd2daf7

dpdklab at iol.unh.edu dpdklab at iol.unh.edu
Thu May 16 00:59:14 CEST 2024


_Testing PASS_

Branch: tags/v23.11

51783c9b605a408ee9d72200347de6e5cbd2daf7 --> testing pass

Test environment and result as below:

+-----------------------+---------------------------+------------------------------+----------------+
|      Environment      | cryptodev_sw_zuc_autotest | cryptodev_sw_snow3g_autotest | dpdk_unit_test |
+=======================+===========================+==============================+================+
| Debian 12 (arm)       | PASS                      | PASS                         | PASS           |
+-----------------------+---------------------------+------------------------------+----------------+
| CentOS Stream 9 (ARM) | SKIPPED                   | SKIPPED                      | PASS           |
+-----------------------+---------------------------+------------------------------+----------------+


Debian 12 (arm)
	Kernel: Container Host Kernel
	Compiler: gcc 12.2.0

CentOS Stream 9 (ARM)
	Kernel: Container Host Kernel
	Compiler: gcc 11.4.1

To view detailed results, visit:
https://lab.dpdk.org/results/dashboard/tarballs/29116/

UNH-IOL DPDK Community Lab

To manage your email subscriptions, visit: 
https://lab.dpdk.org/results/dashboard/preferences/subscriptions/


More information about the test-report mailing list