|SUCCESS| pw140138 [PATCH] [v5] devtools: add .clang-format file

dpdklab at iol.unh.edu dpdklab at iol.unh.edu
Thu May 16 11:06:22 CEST 2024


Test-Label: iol-abi-testing
Test-Status: SUCCESS
http://dpdk.org/patch/140138

_Testing PASS_

Submitter: Abdullah Omer Yamac <aomeryamac at gmail.com>
Date: Thursday, May 16 2024 08:20:51 
DPDK git baseline: Repo:dpdk
  Branch: master
  CommitID:884f83ccf74b5364430d3b21c653d5f6e359e091

140138 --> testing pass

Test environment and result as below:

+-----------------+----------+
|   Environment   | abi_test |
+=================+==========+
| Debian Bullseye | PASS     |
+-----------------+----------+
| CentOS Stream 8 | PASS     |
+-----------------+----------+
| Ubuntu 22.04    | PASS     |
+-----------------+----------+
| Fedora 39       | PASS     |
+-----------------+----------+


Debian Bullseye
	Kernel: 5.4.0-167-generic
	Compiler: gcc 10.2.1-6

CentOS Stream 8
	Kernel: 5.4.0-167-generic
	Compiler: gcc 8.5.0 20210514

Ubuntu 22.04
	Kernel: 5.4.0-167-generic
	Compiler: gcc 11.4.0

Fedora 39
	Kernel: Depends on container host
	Compiler: gcc 13.2.1

To view detailed results, visit:
https://lab.dpdk.org/results/dashboard/patchsets/29969/

UNH-IOL DPDK Community Lab

To manage your email subscriptions, visit: 
https://lab.dpdk.org/results/dashboard/preferences/subscriptions/


More information about the test-report mailing list