|SUCCESS| pw140137 [PATCH] [v1] net/cpfl: check if DPDK is running o
dpdklab at iol.unh.edu
dpdklab at iol.unh.edu
Thu May 16 11:48:22 CEST 2024
Test-Label: iol-compile-amd64-testing
Test-Status: SUCCESS
http://dpdk.org/patch/140137
_Testing PASS_
Submitter: Shaiq Wani <shaiqwani at intel.com>
Date: Thursday, May 16 2024 08:12:43
DPDK git baseline: Repo:dpdk
Branch: master
CommitID:884f83ccf74b5364430d3b21c653d5f6e359e091
140137 --> testing pass
Test environment and result as below:
+---------------------+--------------------+------------------+----------------------+
| Environment | dpdk_meson_compile | dpdk_compile_ovs | dpdk_mingw64_compile |
+=====================+====================+==================+======================+
| FreeBSD 13.3 | PASS | SKIPPED | SKIPPED |
+---------------------+--------------------+------------------+----------------------+
| Windows Server 2019 | PASS | SKIPPED | PASS |
+---------------------+--------------------+------------------+----------------------+
| CentOS Stream 8 | PASS | PASS | SKIPPED |
+---------------------+--------------------+------------------+----------------------+
| CentOS Stream 9 | PASS | PASS | SKIPPED |
+---------------------+--------------------+------------------+----------------------+
| FreeBSD 14.0 | PASS | SKIPPED | SKIPPED |
+---------------------+--------------------+------------------+----------------------+
| Debian 12 | PASS | PASS | SKIPPED |
+---------------------+--------------------+------------------+----------------------+
| Windows Server 2022 | SKIPPED | SKIPPED | PASS |
+---------------------+--------------------+------------------+----------------------+
FreeBSD 13.3
Kernel: 13.3-RELEASE-p1
Compiler: clang 17.0.6
Windows Server 2019
Kernel: 10.0.17763
Compiler: clang 14.0 and gcc 8.1.0 (MinGW)
CentOS Stream 8
Kernel: 5.4.0-167-generic
Compiler: gcc 8.5.0 20210514
CentOS Stream 9
Kernel: 5.4.0-167-generic
Compiler: gcc 11.4.1 20230605
FreeBSD 14.0
Kernel: 14.0
Compiler: clang 16.0.6
Debian 12
Kernel: Container Host Kernel
Compiler: gcc 10.2.1
Windows Server 2022
Kernel: 10.0.20348.2031
Compiler: clang 15.0.7, gcc 8.1.0 (MinGW), and MSVC VS 17.9
To view detailed results, visit:
https://lab.dpdk.org/results/dashboard/patchsets/29968/
UNH-IOL DPDK Community Lab
To manage your email subscriptions, visit:
https://lab.dpdk.org/results/dashboard/preferences/subscriptions/
More information about the test-report
mailing list