|SUCCESS| pw140137 [PATCH] [v1] net/cpfl: check if DPDK is running o
dpdklab at iol.unh.edu
dpdklab at iol.unh.edu
Thu May 16 11:55:40 CEST 2024
Test-Label: iol-abi-testing
Test-Status: SUCCESS
http://dpdk.org/patch/140137
_Testing PASS_
Submitter: Shaiq Wani <shaiqwani at intel.com>
Date: Thursday, May 16 2024 08:12:43
DPDK git baseline: Repo:dpdk
Branch: master
CommitID:884f83ccf74b5364430d3b21c653d5f6e359e091
140137 --> testing pass
Test environment and result as below:
+-----------------+----------+
| Environment | abi_test |
+=================+==========+
| Debian Bullseye | PASS |
+-----------------+----------+
| Fedora 37 | PASS |
+-----------------+----------+
| CentOS Stream 8 | PASS |
+-----------------+----------+
| Fedora 38 | PASS |
+-----------------+----------+
| CentOS Stream 9 | PASS |
+-----------------+----------+
| Ubuntu 22.04 | PASS |
+-----------------+----------+
| RHEL8 | PASS |
+-----------------+----------+
Debian Bullseye
Kernel: 5.4.0-167-generic
Compiler: gcc 10.2.1-6
Fedora 37
Kernel: Depends on container host system
Compiler: gcc 12.3.1
CentOS Stream 8
Kernel: 5.4.0-167-generic
Compiler: gcc 8.5.0 20210514
Fedora 38
Kernel: Depends on container host
Compiler: clang 16.0.6
CentOS Stream 9
Kernel: 5.4.0-167-generic
Compiler: gcc 11.4.1 20230605
Ubuntu 22.04
Kernel: 5.4.0-167-generic
Compiler: gcc 11.4.0
RHEL8
Kernel: 5.4.0-167-generic
Compiler: gcc 8.5.0 20210514 (Red Hat 8.5.0-20)
To view detailed results, visit:
https://lab.dpdk.org/results/dashboard/patchsets/29968/
UNH-IOL DPDK Community Lab
To manage your email subscriptions, visit:
https://lab.dpdk.org/results/dashboard/preferences/subscriptions/
More information about the test-report
mailing list