|SUCCESS| pw140137 [PATCH] [v1] net/cpfl: check if DPDK is running o
dpdklab at iol.unh.edu
dpdklab at iol.unh.edu
Thu May 16 11:57:13 CEST 2024
Test-Label: iol-unit-arm64-testing
Test-Status: SUCCESS
http://dpdk.org/patch/140137
_Testing PASS_
Submitter: Shaiq Wani <shaiqwani at intel.com>
Date: Thursday, May 16 2024 08:12:43
DPDK git baseline: Repo:dpdk
Branch: master
CommitID:884f83ccf74b5364430d3b21c653d5f6e359e091
140137 --> testing pass
Test environment and result as below:
+--------------------------+----------------+------------------------------+
| Environment | dpdk_unit_test | cryptodev_sw_snow3g_autotest |
+==========================+================+==============================+
| CentOS Stream 9 (ARM) | PASS | SKIPPED |
+--------------------------+----------------+------------------------------+
| Debian 11 (Buster) (ARM) | PASS | SKIPPED |
+--------------------------+----------------+------------------------------+
| Debian 12 (arm) | PASS | PASS |
+--------------------------+----------------+------------------------------+
| Fedora 37 (ARM) | PASS | SKIPPED |
+--------------------------+----------------+------------------------------+
CentOS Stream 9 (ARM)
Kernel: Container Host Kernel
Compiler: gcc 11.4.1
Debian 11 (Buster) (ARM)
Kernel: Container Host Kernel
Compiler: gcc 10.2.1
Debian 12 (arm)
Kernel: Container Host Kernel
Compiler: gcc 12.2.0
Fedora 37 (ARM)
Kernel: Depends on container host
Compiler: gcc 12.3.1
To view detailed results, visit:
https://lab.dpdk.org/results/dashboard/patchsets/29968/
UNH-IOL DPDK Community Lab
To manage your email subscriptions, visit:
https://lab.dpdk.org/results/dashboard/preferences/subscriptions/
More information about the test-report
mailing list