|SUCCESS| pw140149-140157 [PATCH] [v6,9/9] net/null: use generic SW

dpdklab at iol.unh.edu dpdklab at iol.unh.edu
Fri May 17 03:06:15 CEST 2024


Test-Label: iol-unit-arm64-testing
Test-Status: SUCCESS
http://dpdk.org/patch/140157

_Testing PASS_

Submitter: Stephen Hemminger <stephen at networkplumber.org>
Date: Friday, May 17 2024 00:12:09 
DPDK git baseline: Repo:dpdk
  Branch: master
  CommitID:e5bf3e397b34082673b9fe06f4b8f667c8e4913d

140149-140157 --> testing pass

Test environment and result as below:

+-----------------------------+--------------+----------------+------------------------------+
|         Environment         | lpm_autotest | dpdk_unit_test | cryptodev_sw_snow3g_autotest |
+=============================+==============+================+==============================+
| Ubuntu 20.04 ARM SVE        | PASS         | SKIPPED        | SKIPPED                      |
+-----------------------------+--------------+----------------+------------------------------+
| 32-bit Ubuntu 20.04.4 (ARM) | SKIPPED      | PASS           | SKIPPED                      |
+-----------------------------+--------------+----------------+------------------------------+
| Debian 12 (arm)             | SKIPPED      | SKIPPED        | PASS                         |
+-----------------------------+--------------+----------------+------------------------------+


Ubuntu 20.04 ARM SVE
	Kernel: 5.4.0-167-generic
	Compiler: gcc (Ubuntu 10.5.0-1ubuntu1~20.04) 10.5.0

32-bit Ubuntu 20.04.4 (ARM)
	Kernel: 5.4.0-155-generic aarch64
	Compiler: gcc 9.4

Debian 12 (arm)
	Kernel: Container Host Kernel
	Compiler: gcc 12.2.0

To view detailed results, visit:
https://lab.dpdk.org/results/dashboard/patchsets/29972/

UNH-IOL DPDK Community Lab

To manage your email subscriptions, visit: 
https://lab.dpdk.org/results/dashboard/preferences/subscriptions/


More information about the test-report mailing list