|SUCCESS| pw140158 [PATCH] net/cpfl: get running host ID
dpdklab at iol.unh.edu
dpdklab at iol.unh.edu
Fri May 17 09:27:15 CEST 2024
Test-Label: iol-compile-arm64-testing
Test-Status: SUCCESS
http://dpdk.org/patch/140158
_Testing PASS_
Submitter: Shaiq Wani <shaiq.wani at intel.com>
Date: Friday, May 17 2024 06:31:52
DPDK git baseline: Repo:dpdk
Branch: master
CommitID:2ac57ed414af92f0c30a799e1824fd47f86a94b0
140158 --> testing pass
Test environment and result as below:
+-----------------------+--------------------+
| Environment | dpdk_meson_compile |
+=======================+====================+
| Ubuntu 20.04 ARM SVE | PASS |
+-----------------------+--------------------+
| Debian 12 with MUSDK | PASS |
+-----------------------+--------------------+
| Fedora 38 (ARM) | PASS |
+-----------------------+--------------------+
| Fedora 39 (ARM) | PASS |
+-----------------------+--------------------+
| Ubuntu 20.04 (ARM) | PASS |
+-----------------------+--------------------+
| Debian 12 (arm) | PASS |
+-----------------------+--------------------+
| CentOS Stream 9 (ARM) | PASS |
+-----------------------+--------------------+
Ubuntu 20.04 ARM SVE
Kernel: 5.4.0-167-generic
Compiler: gcc (Ubuntu 10.5.0-1ubuntu1~20.04) 10.5.0
Debian 12 with MUSDK
Kernel: Container Host Kernel
Compiler: gcc 12.2.0
Fedora 38 (ARM)
Kernel: Depends on container host
Compiler: gcc 13.2.1
Fedora 39 (ARM)
Kernel: Depends on container host
Compiler: gcc 13.2.1
Ubuntu 20.04 (ARM)
Kernel: Container Host Kernel
Compiler: gcc 9.4.0
Debian 12 (arm)
Kernel: Container Host Kernel
Compiler: gcc 12.2.0
CentOS Stream 9 (ARM)
Kernel: Container Host Kernel
Compiler: gcc 11.4.1
To view detailed results, visit:
https://lab.dpdk.org/results/dashboard/patchsets/29973/
UNH-IOL DPDK Community Lab
To manage your email subscriptions, visit:
https://lab.dpdk.org/results/dashboard/preferences/subscriptions/
More information about the test-report
mailing list