|SUCCESS| pw140158 [PATCH] net/cpfl: get running host ID

dpdklab at iol.unh.edu dpdklab at iol.unh.edu
Fri May 17 09:32:04 CEST 2024


Test-Label: iol-unit-arm64-testing
Test-Status: SUCCESS
http://dpdk.org/patch/140158

_Testing PASS_

Submitter: Shaiq Wani <shaiq.wani at intel.com>
Date: Friday, May 17 2024 06:31:52 
DPDK git baseline: Repo:dpdk
  Branch: master
  CommitID:2ac57ed414af92f0c30a799e1824fd47f86a94b0

140158 --> testing pass

Test environment and result as below:

+--------------------------+---------------------------+------------------------------+----------------+
|       Environment        | cryptodev_sw_zuc_autotest | cryptodev_sw_snow3g_autotest | dpdk_unit_test |
+==========================+===========================+==============================+================+
| Debian 12 (arm)          | PASS                      | PASS                         | PASS           |
+--------------------------+---------------------------+------------------------------+----------------+
| Debian 11 (Buster) (ARM) | SKIPPED                   | SKIPPED                      | PASS           |
+--------------------------+---------------------------+------------------------------+----------------+
| Fedora 37 (ARM)          | SKIPPED                   | SKIPPED                      | PASS           |
+--------------------------+---------------------------+------------------------------+----------------+


Debian 12 (arm)
	Kernel: Container Host Kernel
	Compiler: gcc 12.2.0

Debian 11 (Buster) (ARM)
	Kernel: Container Host Kernel
	Compiler: gcc 10.2.1

Fedora 37 (ARM)
	Kernel: Depends on container host
	Compiler: gcc 12.3.1

To view detailed results, visit:
https://lab.dpdk.org/results/dashboard/patchsets/29973/

UNH-IOL DPDK Community Lab

To manage your email subscriptions, visit: 
https://lab.dpdk.org/results/dashboard/preferences/subscriptions/


More information about the test-report mailing list