|SUCCESS| pw140171-140172 [PATCH] [v1,2/2] app/testpmd: introduce VX

dpdklab at iol.unh.edu dpdklab at iol.unh.edu
Fri May 17 21:49:01 CEST 2024


Test-Label: iol-abi-testing
Test-Status: SUCCESS
http://dpdk.org/patch/140172

_Testing PASS_

Submitter: Gavin Li <gavinl at nvidia.com>
Date: Friday, May 17 2024 08:07:35 
DPDK git baseline: Repo:dpdk
  Branch: master
  CommitID:baa8e2c6b4d7ce289e891b9c96fb3193311c0f01

140171-140172 --> testing pass

Test environment and result as below:

+-----------------+----------+
|   Environment   | abi_test |
+=================+==========+
| Debian Bullseye | PASS     |
+-----------------+----------+
| Fedora 37       | PASS     |
+-----------------+----------+
| CentOS Stream 9 | PASS     |
+-----------------+----------+
| RHEL8           | PASS     |
+-----------------+----------+
| Debian 12       | PASS     |
+-----------------+----------+
| Fedora 39       | PASS     |
+-----------------+----------+
| Fedora 38       | PASS     |
+-----------------+----------+


Debian Bullseye
	Kernel: 5.4.0-167-generic
	Compiler: gcc 10.2.1-6

Fedora 37
	Kernel: Depends on container host system
	Compiler: gcc 12.3.1

CentOS Stream 9
	Kernel: 5.4.0-167-generic
	Compiler: gcc 11.4.1 20230605

RHEL8
	Kernel: 5.4.0-167-generic
	Compiler: gcc 8.5.0 20210514 (Red Hat 8.5.0-20)

Debian 12
	Kernel: Container Host Kernel
	Compiler: gcc 10.2.1

Fedora 39
	Kernel: Depends on container host
	Compiler: gcc 13.2.1

Fedora 38
	Kernel: Depends on container host
	Compiler: gcc 13.2.1

To view detailed results, visit:
https://lab.dpdk.org/results/dashboard/patchsets/29975/

UNH-IOL DPDK Community Lab

To manage your email subscriptions, visit: 
https://lab.dpdk.org/results/dashboard/preferences/subscriptions/


More information about the test-report mailing list