|SUCCESS| pw140161-140170 [PATCH] [10/10] net/cnxk: define CPT HW re

dpdklab at iol.unh.edu dpdklab at iol.unh.edu
Fri May 17 22:12:05 CEST 2024


Test-Label: iol-abi-testing
Test-Status: SUCCESS
http://dpdk.org/patch/140170

_Testing PASS_

Submitter: Nithin Dabilpuram <ndabilpuram at marvell.com>
Date: Friday, May 17 2024 07:44:48 
DPDK git baseline: Repo:dpdk
  Branch: master
  CommitID:7e06c0de1952d3109a5b0c4779d7e7d8059c9d78

140161-140170 --> testing pass

Test environment and result as below:

+------------------+----------+
|   Environment    | abi_test |
+==================+==========+
| CentOS Stream 8  | PASS     |
+------------------+----------+
| openSUSE Leap 15 | PASS     |
+------------------+----------+
| Debian 12        | PASS     |
+------------------+----------+
| CentOS Stream 9  | PASS     |
+------------------+----------+
| Fedora 39        | PASS     |
+------------------+----------+
| Debian Bullseye  | PASS     |
+------------------+----------+
| Fedora 38        | PASS     |
+------------------+----------+


CentOS Stream 8
	Kernel: 5.4.0-167-generic
	Compiler: gcc 8.5.0 20210514

openSUSE Leap 15
	Kernel: 5.4.0-167-generic
	Compiler: gcc 7.5.0

Debian 12
	Kernel: Container Host Kernel
	Compiler: gcc 10.2.1

CentOS Stream 9
	Kernel: 5.4.0-167-generic
	Compiler: gcc 11.4.1 20230605

Fedora 39
	Kernel: Depends on container host
	Compiler: gcc 13.2.1

Debian Bullseye
	Kernel: 5.4.0-167-generic
	Compiler: gcc 10.2.1-6

Fedora 38
	Kernel: Depends on container host
	Compiler: gcc 13.2.1

To view detailed results, visit:
https://lab.dpdk.org/results/dashboard/patchsets/29974/

UNH-IOL DPDK Community Lab

To manage your email subscriptions, visit: 
https://lab.dpdk.org/results/dashboard/preferences/subscriptions/


More information about the test-report mailing list