|SUCCESS| [GIT MASTER] a6ec5765cf83d3d58cbd6d4ed5b92b4a06f8a808

dpdklab at iol.unh.edu dpdklab at iol.unh.edu
Sun May 19 06:24:09 CEST 2024


_Testing PASS_

Branch: tags/v23.11

a6ec5765cf83d3d58cbd6d4ed5b92b4a06f8a808 --> testing pass

Test environment and result as below:

+--------------------------+---------------------------+----------------+------------------------------+
|       Environment        | cryptodev_sw_zuc_autotest | dpdk_unit_test | cryptodev_sw_snow3g_autotest |
+==========================+===========================+================+==============================+
| Debian 12 (arm)          | PASS                      | SKIPPED        | PASS                         |
+--------------------------+---------------------------+----------------+------------------------------+
| Debian 11 (Buster) (ARM) | SKIPPED                   | PASS           | SKIPPED                      |
+--------------------------+---------------------------+----------------+------------------------------+
| CentOS Stream 9 (ARM)    | SKIPPED                   | PASS           | SKIPPED                      |
+--------------------------+---------------------------+----------------+------------------------------+


Debian 12 (arm)
	Kernel: Container Host Kernel
	Compiler: gcc 12.2.0

Debian 11 (Buster) (ARM)
	Kernel: Container Host Kernel
	Compiler: gcc 10.2.1

CentOS Stream 9 (ARM)
	Kernel: Container Host Kernel
	Compiler: gcc 11.4.1

To view detailed results, visit:
https://lab.dpdk.org/results/dashboard/tarballs/29138/

UNH-IOL DPDK Community Lab

To manage your email subscriptions, visit: 
https://lab.dpdk.org/results/dashboard/preferences/subscriptions/


More information about the test-report mailing list