|SUCCESS| [GIT MASTER] 6f80df8cb0f889203d7cd27766abcc6ebc720e33
dpdklab at iol.unh.edu
dpdklab at iol.unh.edu
Tue May 21 22:17:43 CEST 2024
_Testing PASS_
Branch: dpdk-next-crypto
6f80df8cb0f889203d7cd27766abcc6ebc720e33 --> testing pass
Test environment and result as below:
+---------------------+--------------------+------------------+-------------------+
| Environment | dpdk_meson_compile | dpdk_compile_ovs | dpdk_msvc_compile |
+=====================+====================+==================+===================+
| CentOS Stream 9 | PASS | PASS | SKIPPED |
+---------------------+--------------------+------------------+-------------------+
| Debian 12 | PASS | PASS | SKIPPED |
+---------------------+--------------------+------------------+-------------------+
| Debian Bullseye | PASS | PASS | SKIPPED |
+---------------------+--------------------+------------------+-------------------+
| RHEL8 | PASS | PASS | SKIPPED |
+---------------------+--------------------+------------------+-------------------+
| FreeBSD 13.3 | PASS | SKIPPED | SKIPPED |
+---------------------+--------------------+------------------+-------------------+
| Alpine | PASS | SKIPPED | SKIPPED |
+---------------------+--------------------+------------------+-------------------+
| openSUSE Leap 15 | PASS | PASS | SKIPPED |
+---------------------+--------------------+------------------+-------------------+
| Ubuntu 22.04 | PASS | PASS | SKIPPED |
+---------------------+--------------------+------------------+-------------------+
| Windows Server 2022 | PASS | SKIPPED | PASS |
+---------------------+--------------------+------------------+-------------------+
| Windows Server 2019 | PASS | SKIPPED | SKIPPED |
+---------------------+--------------------+------------------+-------------------+
CentOS Stream 9
Kernel: 5.4.0-167-generic
Compiler: gcc 11.4.1 20230605
Debian 12
Kernel: Container Host Kernel
Compiler: gcc 10.2.1
Debian Bullseye
Kernel: 5.4.0-167-generic
Compiler: gcc 10.2.1-6
RHEL8
Kernel: 5.4.0-167-generic
Compiler: gcc 8.5.0 20210514 (Red Hat 8.5.0-20)
FreeBSD 13.3
Kernel: 13.3-RELEASE-p1
Compiler: clang 17.0.6
Alpine
Kernel: 5.4.0-167-generic
Compiler: gcc (Alpine 13.2.1_git20231014) 13.2.1 20231014
openSUSE Leap 15
Kernel: 5.4.0-167-generic
Compiler: gcc 7.5.0
Ubuntu 22.04
Kernel: 5.4.0-167-generic
Compiler: gcc 11.4.0
Windows Server 2022
Kernel: 10.0.20348.2031
Compiler: clang 15.0.7, gcc 8.1.0 (MinGW), and MSVC VS 17.9
Windows Server 2019
Kernel: 10.0.17763
Compiler: clang 14.0 and gcc 8.1.0 (MinGW)
To view detailed results, visit:
https://lab.dpdk.org/results/dashboard/tarballs/29155/
UNH-IOL DPDK Community Lab
To manage your email subscriptions, visit:
https://lab.dpdk.org/results/dashboard/preferences/subscriptions/
More information about the test-report
mailing list