|SUCCESS| pw140218-140228 [PATCH] [v15,11/11] net/tap: update docume

dpdklab at iol.unh.edu dpdklab at iol.unh.edu
Wed May 22 00:02:41 CEST 2024


Test-Label: iol-abi-testing
Test-Status: SUCCESS
http://dpdk.org/patch/140228

_Testing PASS_

Submitter: Stephen Hemminger <stephen at networkplumber.org>
Date: Tuesday, May 21 2024 20:12:56 
DPDK git baseline: Repo:dpdk
  Branch: master
  CommitID:6f80df8cb0f889203d7cd27766abcc6ebc720e33

140218-140228 --> testing pass

Test environment and result as below:

+--------------+----------+
| Environment  | abi_test |
+==============+==========+
| Debian 12    | PASS     |
+--------------+----------+
| Ubuntu 22.04 | PASS     |
+--------------+----------+
| Fedora 39    | PASS     |
+--------------+----------+
| RHEL8        | PASS     |
+--------------+----------+


Debian 12
	Kernel: Container Host Kernel
	Compiler: gcc 10.2.1

Ubuntu 22.04
	Kernel: 5.4.0-167-generic
	Compiler: gcc 11.4.0

Fedora 39
	Kernel: Depends on container host
	Compiler: gcc 13.2.1

RHEL8
	Kernel: 5.4.0-167-generic
	Compiler: gcc 8.5.0 20210514 (Red Hat 8.5.0-20)

To view detailed results, visit:
https://lab.dpdk.org/results/dashboard/patchsets/29984/

UNH-IOL DPDK Community Lab

To manage your email subscriptions, visit: 
https://lab.dpdk.org/results/dashboard/preferences/subscriptions/


More information about the test-report mailing list