|SUCCESS| pw140218-140228 [PATCH] [v15,11/11] net/tap: update docume

dpdklab at iol.unh.edu dpdklab at iol.unh.edu
Wed May 22 00:38:04 CEST 2024


Test-Label: iol-compile-amd64-testing
Test-Status: SUCCESS
http://dpdk.org/patch/140228

_Testing PASS_

Submitter: Stephen Hemminger <stephen at networkplumber.org>
Date: Tuesday, May 21 2024 20:12:56 
DPDK git baseline: Repo:dpdk
  Branch: master
  CommitID:6f80df8cb0f889203d7cd27766abcc6ebc720e33

140218-140228 --> testing pass

Test environment and result as below:

+---------------------+--------------------+------------------+----------------------+-------------------+
|     Environment     | dpdk_meson_compile | dpdk_compile_ovs | dpdk_mingw64_compile | dpdk_msvc_compile |
+=====================+====================+==================+======================+===================+
| CentOS Stream 8     | PASS               | PASS             | SKIPPED              | SKIPPED           |
+---------------------+--------------------+------------------+----------------------+-------------------+
| CentOS Stream 9     | PASS               | PASS             | SKIPPED              | SKIPPED           |
+---------------------+--------------------+------------------+----------------------+-------------------+
| Windows Server 2022 | PASS               | SKIPPED          | PASS                 | PASS              |
+---------------------+--------------------+------------------+----------------------+-------------------+
| Fedora 38           | PASS               | PASS             | SKIPPED              | SKIPPED           |
+---------------------+--------------------+------------------+----------------------+-------------------+
| Windows Server 2019 | PASS               | SKIPPED          | PASS                 | SKIPPED           |
+---------------------+--------------------+------------------+----------------------+-------------------+
| Fedora 39           | PASS               | PASS             | SKIPPED              | SKIPPED           |
+---------------------+--------------------+------------------+----------------------+-------------------+
| Debian 12           | PASS               | PASS             | SKIPPED              | SKIPPED           |
+---------------------+--------------------+------------------+----------------------+-------------------+
| FreeBSD 13.3        | PASS               | SKIPPED          | SKIPPED              | SKIPPED           |
+---------------------+--------------------+------------------+----------------------+-------------------+
| Fedora 37           | PASS               | PASS             | SKIPPED              | SKIPPED           |
+---------------------+--------------------+------------------+----------------------+-------------------+
| Alpine              | PASS               | SKIPPED          | SKIPPED              | SKIPPED           |
+---------------------+--------------------+------------------+----------------------+-------------------+
| openSUSE Leap 15    | PASS               | PASS             | SKIPPED              | SKIPPED           |
+---------------------+--------------------+------------------+----------------------+-------------------+
| Debian Bullseye     | PASS               | PASS             | SKIPPED              | SKIPPED           |
+---------------------+--------------------+------------------+----------------------+-------------------+
| RHEL8               | PASS               | PASS             | SKIPPED              | SKIPPED           |
+---------------------+--------------------+------------------+----------------------+-------------------+
| FreeBSD 14.0        | PASS               | SKIPPED          | SKIPPED              | SKIPPED           |
+---------------------+--------------------+------------------+----------------------+-------------------+


CentOS Stream 8
	Kernel: 5.4.0-167-generic
	Compiler: gcc 8.5.0 20210514

CentOS Stream 9
	Kernel: 5.4.0-167-generic
	Compiler: gcc 11.4.1 20230605

Windows Server 2022
	Kernel: 10.0.20348.2031
	Compiler: clang 15.0.7, gcc 8.1.0 (MinGW), and MSVC VS 17.9

Fedora 38
	Kernel: Depends on container host
	Compiler: gcc 13.2.1

Windows Server 2019
	Kernel: 10.0.17763
	Compiler: clang 14.0 and gcc 8.1.0 (MinGW)

Fedora 39
	Kernel: Depends on container host
	Compiler: gcc 13.2.1

Debian 12
	Kernel: Container Host Kernel
	Compiler: gcc 10.2.1

FreeBSD 13.3
	Kernel: 13.3-RELEASE-p1
	Compiler: clang 17.0.6

Fedora 37
	Kernel: Depends on container host system
	Compiler: gcc 12.3.1

Alpine
	Kernel: 5.4.0-167-generic
	Compiler: gcc (Alpine 13.2.1_git20231014) 13.2.1 20231014

openSUSE Leap 15
	Kernel: 5.4.0-167-generic
	Compiler: gcc 7.5.0

Debian Bullseye
	Kernel: 5.4.0-167-generic
	Compiler: gcc 10.2.1-6

RHEL8
	Kernel: 5.4.0-167-generic
	Compiler: gcc 8.5.0 20210514 (Red Hat 8.5.0-20)

FreeBSD 14.0
	Kernel: 14.0
	Compiler: clang 16.0.6

To view detailed results, visit:
https://lab.dpdk.org/results/dashboard/patchsets/29984/

UNH-IOL DPDK Community Lab

To manage your email subscriptions, visit: 
https://lab.dpdk.org/results/dashboard/preferences/subscriptions/


More information about the test-report mailing list