|SUCCESS| pw140237 [PATCH] [v2] hash: provide crc32 functions based
dpdklab at iol.unh.edu
dpdklab at iol.unh.edu
Wed May 22 03:36:25 CEST 2024
Test-Label: iol-unit-arm64-testing
Test-Status: SUCCESS
http://dpdk.org/patch/140237
_Testing PASS_
Submitter: Tyler Retzlaff <roretzla at linux.microsoft.com>
Date: Wednesday, May 22 2024 00:02:14
DPDK git baseline: Repo:dpdk
Branch: master
CommitID:6f80df8cb0f889203d7cd27766abcc6ebc720e33
140237 --> testing pass
Test environment and result as below:
+-----------------------------+----------------+---------------------------+
| Environment | dpdk_unit_test | cryptodev_sw_zuc_autotest |
+=============================+================+===========================+
| CentOS Stream 9 (ARM) | PASS | SKIPPED |
+-----------------------------+----------------+---------------------------+
| Debian 11 (Buster) (ARM) | PASS | SKIPPED |
+-----------------------------+----------------+---------------------------+
| Ubuntu 20.04 (ARM) | PASS | SKIPPED |
+-----------------------------+----------------+---------------------------+
| Fedora 37 (ARM) | PASS | SKIPPED |
+-----------------------------+----------------+---------------------------+
| Debian 12 (arm) | PASS | PASS |
+-----------------------------+----------------+---------------------------+
| Fedora 38 (ARM) | PASS | SKIPPED |
+-----------------------------+----------------+---------------------------+
| Fedora 39 (ARM) | PASS | SKIPPED |
+-----------------------------+----------------+---------------------------+
| 32-bit Ubuntu 20.04.4 (ARM) | PASS | SKIPPED |
+-----------------------------+----------------+---------------------------+
CentOS Stream 9 (ARM)
Kernel: Container Host Kernel
Compiler: gcc 11.4.1
Debian 11 (Buster) (ARM)
Kernel: Container Host Kernel
Compiler: gcc 10.2.1
Ubuntu 20.04 (ARM)
Kernel: Container Host Kernel
Compiler: gcc 9.4.0
Fedora 37 (ARM)
Kernel: Depends on container host
Compiler: gcc 12.3.1
Debian 12 (arm)
Kernel: Container Host Kernel
Compiler: gcc 12.2.0
Fedora 38 (ARM)
Kernel: Depends on container host
Compiler: gcc 13.2.1
Fedora 39 (ARM)
Kernel: Depends on container host
Compiler: gcc 13.2.1
32-bit Ubuntu 20.04.4 (ARM)
Kernel: 5.4.0-155-generic aarch64
Compiler: gcc 9.4
To view detailed results, visit:
https://lab.dpdk.org/results/dashboard/patchsets/29986/
UNH-IOL DPDK Community Lab
To manage your email subscriptions, visit:
https://lab.dpdk.org/results/dashboard/preferences/subscriptions/
More information about the test-report
mailing list