|SUCCESS| pw140238-140269 [PATCH] [v5,32/32] net/af_xdp:: replace us

dpdklab at iol.unh.edu dpdklab at iol.unh.edu
Wed May 22 06:41:27 CEST 2024


Test-Label: iol-unit-arm64-testing
Test-Status: SUCCESS
http://dpdk.org/patch/140269

_Testing PASS_

Submitter: Stephen Hemminger <stephen at networkplumber.org>
Date: Wednesday, May 22 2024 03:27:59 
DPDK git baseline: Repo:dpdk
  Branch: master
  CommitID:6f80df8cb0f889203d7cd27766abcc6ebc720e33

140238-140269 --> testing pass

Test environment and result as below:

+-----------------------------+------------------------------+---------------------------+----------------+
|         Environment         | cryptodev_sw_snow3g_autotest | cryptodev_sw_zuc_autotest | dpdk_unit_test |
+=============================+==============================+===========================+================+
| Debian 12 (arm)             | PASS                         | PASS                      | SKIPPED        |
+-----------------------------+------------------------------+---------------------------+----------------+
| CentOS Stream 9 (ARM)       | SKIPPED                      | SKIPPED                   | PASS           |
+-----------------------------+------------------------------+---------------------------+----------------+
| Debian 11 (Buster) (ARM)    | SKIPPED                      | SKIPPED                   | PASS           |
+-----------------------------+------------------------------+---------------------------+----------------+
| Fedora 37 (ARM)             | SKIPPED                      | SKIPPED                   | PASS           |
+-----------------------------+------------------------------+---------------------------+----------------+
| 32-bit Ubuntu 20.04.4 (ARM) | SKIPPED                      | SKIPPED                   | PASS           |
+-----------------------------+------------------------------+---------------------------+----------------+


Debian 12 (arm)
	Kernel: Container Host Kernel
	Compiler: gcc 12.2.0

CentOS Stream 9 (ARM)
	Kernel: Container Host Kernel
	Compiler: gcc 11.4.1

Debian 11 (Buster) (ARM)
	Kernel: Container Host Kernel
	Compiler: gcc 10.2.1

Fedora 37 (ARM)
	Kernel: Depends on container host
	Compiler: gcc 12.3.1

32-bit Ubuntu 20.04.4 (ARM)
	Kernel: 5.4.0-155-generic aarch64
	Compiler: gcc 9.4

To view detailed results, visit:
https://lab.dpdk.org/results/dashboard/patchsets/29987/

UNH-IOL DPDK Community Lab

To manage your email subscriptions, visit: 
https://lab.dpdk.org/results/dashboard/preferences/subscriptions/


More information about the test-report mailing list