|SUCCESS| pw140280 [PATCH] [v2] hash: cast away atomic qualification
dpdklab at iol.unh.edu
dpdklab at iol.unh.edu
Wed May 22 23:27:48 CEST 2024
Test-Label: iol-unit-arm64-testing
Test-Status: SUCCESS
http://dpdk.org/patch/140280
_Testing PASS_
Submitter: Tyler Retzlaff <roretzla at linux.microsoft.com>
Date: Wednesday, May 22 2024 16:33:45
DPDK git baseline: Repo:dpdk
Branch: master
CommitID:6f80df8cb0f889203d7cd27766abcc6ebc720e33
140280 --> testing pass
Test environment and result as below:
+--------------------------+---------------------------+----------------+
| Environment | cryptodev_sw_zuc_autotest | dpdk_unit_test |
+==========================+===========================+================+
| Debian 12 (arm) | PASS | SKIPPED |
+--------------------------+---------------------------+----------------+
| CentOS Stream 9 (ARM) | SKIPPED | PASS |
+--------------------------+---------------------------+----------------+
| Debian 11 (Buster) (ARM) | SKIPPED | PASS |
+--------------------------+---------------------------+----------------+
Debian 12 (arm)
Kernel: Container Host Kernel
Compiler: gcc 12.2.0
CentOS Stream 9 (ARM)
Kernel: Container Host Kernel
Compiler: gcc 11.4.1
Debian 11 (Buster) (ARM)
Kernel: Container Host Kernel
Compiler: gcc 10.2.1
To view detailed results, visit:
https://lab.dpdk.org/results/dashboard/patchsets/29991/
UNH-IOL DPDK Community Lab
To manage your email subscriptions, visit:
https://lab.dpdk.org/results/dashboard/preferences/subscriptions/
More information about the test-report
mailing list