|SUCCESS| pw140287-140288 [PATCH] [v1,3/3] net/mlx5: implement VXLAN

dpdklab at iol.unh.edu dpdklab at iol.unh.edu
Thu May 23 13:08:04 CEST 2024


Test-Label: iol-unit-arm64-testing
Test-Status: SUCCESS
http://dpdk.org/patch/140288

_Testing PASS_

Submitter: Rongwei Liu <rongweil at nvidia.com>
Date: Thursday, May 23 2024 07:28:48 
DPDK git baseline: Repo:dpdk
  Branch: master
  CommitID:a012926d36f3feb9d17a51c8f1559f466570ec0a

140287-140288 --> testing pass

Test environment and result as below:

+-----------------------------+---------------------------+----------------+------------------------------+
|         Environment         | cryptodev_sw_zuc_autotest | dpdk_unit_test | cryptodev_sw_snow3g_autotest |
+=============================+===========================+================+==============================+
| Debian 12 (arm)             | PASS                      | SKIPPED        | PASS                         |
+-----------------------------+---------------------------+----------------+------------------------------+
| Debian 11 (Buster) (ARM)    | SKIPPED                   | PASS           | SKIPPED                      |
+-----------------------------+---------------------------+----------------+------------------------------+
| 32-bit Ubuntu 20.04.4 (ARM) | SKIPPED                   | PASS           | SKIPPED                      |
+-----------------------------+---------------------------+----------------+------------------------------+


Debian 12 (arm)
	Kernel: Container Host Kernel
	Compiler: gcc 12.2.0

Debian 11 (Buster) (ARM)
	Kernel: Container Host Kernel
	Compiler: gcc 10.2.1

32-bit Ubuntu 20.04.4 (ARM)
	Kernel: 5.4.0-155-generic aarch64
	Compiler: gcc 9.4

To view detailed results, visit:
https://lab.dpdk.org/results/dashboard/patchsets/29996/

UNH-IOL DPDK Community Lab

To manage your email subscriptions, visit: 
https://lab.dpdk.org/results/dashboard/preferences/subscriptions/


More information about the test-report mailing list