|SUCCESS| pw140292 [PATCH] [v2,1/1] net/cnxk: fix RSS config via eth
dpdklab at iol.unh.edu
dpdklab at iol.unh.edu
Thu May 23 17:58:22 CEST 2024
Test-Label: iol-abi-testing
Test-Status: SUCCESS
http://dpdk.org/patch/140292
_Testing PASS_
Submitter: Sunil Kumar Kori <skori at marvell.com>
Date: Thursday, May 23 2024 14:53:21
DPDK git baseline: Repo:dpdk
Branch: master
CommitID:6f80df8cb0f889203d7cd27766abcc6ebc720e33
140292 --> testing pass
Test environment and result as below:
+------------------+----------+
| Environment | abi_test |
+==================+==========+
| CentOS Stream 9 | PASS |
+------------------+----------+
| Debian Bullseye | PASS |
+------------------+----------+
| Debian 12 | PASS |
+------------------+----------+
| Fedora 38 | PASS |
+------------------+----------+
| Ubuntu 22.04 | PASS |
+------------------+----------+
| CentOS Stream 8 | PASS |
+------------------+----------+
| RHEL8 | PASS |
+------------------+----------+
| Fedora 39 | PASS |
+------------------+----------+
| openSUSE Leap 15 | PASS |
+------------------+----------+
CentOS Stream 9
Kernel: 5.4.0-167-generic
Compiler: gcc 11.4.1 20230605
Debian Bullseye
Kernel: 5.4.0-167-generic
Compiler: gcc 10.2.1-6
Debian 12
Kernel: Container Host Kernel
Compiler: gcc 10.2.1
Fedora 38
Kernel: Depends on container host
Compiler: gcc 13.2.1
Ubuntu 22.04
Kernel: 5.4.0-167-generic
Compiler: gcc 11.4.0
CentOS Stream 8
Kernel: 5.4.0-167-generic
Compiler: gcc 8.5.0 20210514
RHEL8
Kernel: 5.4.0-167-generic
Compiler: gcc 8.5.0 20210514 (Red Hat 8.5.0-20)
Fedora 39
Kernel: Depends on container host
Compiler: gcc 13.2.1
openSUSE Leap 15
Kernel: 5.4.0-167-generic
Compiler: gcc 7.5.0
To view detailed results, visit:
https://lab.dpdk.org/results/dashboard/patchsets/30000/
UNH-IOL DPDK Community Lab
To manage your email subscriptions, visit:
https://lab.dpdk.org/results/dashboard/preferences/subscriptions/
More information about the test-report
mailing list