|SUCCESS| [GIT MASTER] 6f80df8cb0f889203d7cd27766abcc6ebc720e33

dpdklab at iol.unh.edu dpdklab at iol.unh.edu
Fri May 24 02:40:30 CEST 2024


_Testing PASS_

Branch: dpdk

6f80df8cb0f889203d7cd27766abcc6ebc720e33 --> testing pass

Test environment and result as below:

+--------------------------+------------------------------+---------------------------+----------------+
|       Environment        | cryptodev_sw_snow3g_autotest | cryptodev_sw_zuc_autotest | dpdk_unit_test |
+==========================+==============================+===========================+================+
| Debian 12 (arm)          | PASS                         | PASS                      | SKIPPED        |
+--------------------------+------------------------------+---------------------------+----------------+
| Debian 11 (Buster) (ARM) | SKIPPED                      | SKIPPED                   | PASS           |
+--------------------------+------------------------------+---------------------------+----------------+
| Fedora 37 (ARM)          | SKIPPED                      | SKIPPED                   | PASS           |
+--------------------------+------------------------------+---------------------------+----------------+


Debian 12 (arm)
	Kernel: Container Host Kernel
	Compiler: gcc 12.2.0

Debian 11 (Buster) (ARM)
	Kernel: Container Host Kernel
	Compiler: gcc 10.2.1

Fedora 37 (ARM)
	Kernel: Depends on container host
	Compiler: gcc 12.3.1

To view detailed results, visit:
https://lab.dpdk.org/results/dashboard/tarballs/29183/

UNH-IOL DPDK Community Lab

To manage your email subscriptions, visit: 
https://lab.dpdk.org/results/dashboard/preferences/subscriptions/


More information about the test-report mailing list