|SUCCESS| pw140305 [PATCH] doc: remove empty section from testpmd gu

dpdklab at iol.unh.edu dpdklab at iol.unh.edu
Fri May 24 16:45:15 CEST 2024


Test-Label: iol-compile-arm64-testing
Test-Status: SUCCESS
http://dpdk.org/patch/140305

_Testing PASS_

Submitter: Thomas Monjalon <thomas at monjalon.net>
Date: Friday, May 24 2024 13:35:59 
DPDK git baseline: Repo:dpdk
  Branch: master
  CommitID:2dbb63594a9a985e2c8639b57f9fcd1468b9de97

140305 --> testing pass

Test environment and result as below:

+----------------------+--------------------+
|     Environment      | dpdk_meson_compile |
+======================+====================+
| Ubuntu 20.04 ARM SVE | PASS               |
+----------------------+--------------------+
| Debian 12 with MUSDK | PASS               |
+----------------------+--------------------+
| Fedora 37 (ARM)      | PASS               |
+----------------------+--------------------+
| Fedora 38 (ARM)      | PASS               |
+----------------------+--------------------+
| Debian 12 (arm)      | PASS               |
+----------------------+--------------------+
| Fedora 39 (ARM)      | PASS               |
+----------------------+--------------------+
| Ubuntu 20.04 (ARM)   | PASS               |
+----------------------+--------------------+


Ubuntu 20.04 ARM SVE
	Kernel: 5.4.0-167-generic
	Compiler: gcc (Ubuntu 10.5.0-1ubuntu1~20.04) 10.5.0

Debian 12 with MUSDK
	Kernel: Container Host Kernel
	Compiler: gcc 12.2.0

Fedora 37 (ARM)
	Kernel: Depends on container host
	Compiler: gcc 12.3.1

Fedora 38 (ARM)
	Kernel: Depends on container host
	Compiler: gcc 13.2.1

Debian 12 (arm)
	Kernel: Container Host Kernel
	Compiler: gcc 12.2.0

Fedora 39 (ARM)
	Kernel: Depends on container host
	Compiler: gcc 13.2.1

Ubuntu 20.04 (ARM)
	Kernel: Container Host Kernel
	Compiler: gcc 9.4.0

To view detailed results, visit:
https://lab.dpdk.org/results/dashboard/patchsets/30004/

UNH-IOL DPDK Community Lab

To manage your email subscriptions, visit: 
https://lab.dpdk.org/results/dashboard/preferences/subscriptions/


More information about the test-report mailing list