|SUCCESS| pw140306 [PATCH] net/mlx5: remove redundant macro
dpdklab at iol.unh.edu
dpdklab at iol.unh.edu
Fri May 24 19:49:04 CEST 2024
Test-Label: iol-unit-amd64-testing
Test-Status: SUCCESS
http://dpdk.org/patch/140306
_Testing PASS_
Submitter: Thomas Monjalon <thomas at monjalon.net>
Date: Friday, May 24 2024 13:42:54
DPDK git baseline: Repo:dpdk
Branch: master
CommitID:58242360b798ccd45190fc9bc68292f26b7c4385
140306 --> testing pass
Test environment and result as below:
+-----------------+----------------+
| Environment | dpdk_unit_test |
+=================+================+
| CentOS Stream 9 | PASS |
+-----------------+----------------+
| CentOS Stream 8 | PASS |
+-----------------+----------------+
| Debian 12 | PASS |
+-----------------+----------------+
| Debian Bullseye | PASS |
+-----------------+----------------+
| Fedora 38 | PASS |
+-----------------+----------------+
| Fedora 37 | PASS |
+-----------------+----------------+
CentOS Stream 9
Kernel: 5.4.0-167-generic
Compiler: gcc 11.4.1 20230605
CentOS Stream 8
Kernel: 5.4.0-167-generic
Compiler: gcc 8.5.0 20210514
Debian 12
Kernel: Container Host Kernel
Compiler: gcc 10.2.1
Debian Bullseye
Kernel: 5.4.0-167-generic
Compiler: gcc 10.2.1-6
Fedora 38
Kernel: Depends on container host
Compiler: gcc 13.2.1
Fedora 37
Kernel: Depends on container host system
Compiler: gcc 12.3.1
To view detailed results, visit:
https://lab.dpdk.org/results/dashboard/patchsets/30005/
UNH-IOL DPDK Community Lab
To manage your email subscriptions, visit:
https://lab.dpdk.org/results/dashboard/preferences/subscriptions/
More information about the test-report
mailing list