|SUCCESS| pw140306 [PATCH] net/mlx5: remove redundant macro
dpdklab at iol.unh.edu
dpdklab at iol.unh.edu
Fri May 24 20:01:35 CEST 2024
Test-Label: iol-unit-arm64-testing
Test-Status: SUCCESS
http://dpdk.org/patch/140306
_Testing PASS_
Submitter: Thomas Monjalon <thomas at monjalon.net>
Date: Friday, May 24 2024 13:42:54
DPDK git baseline: Repo:dpdk
Branch: master
CommitID:58242360b798ccd45190fc9bc68292f26b7c4385
140306 --> testing pass
Test environment and result as below:
+-----------------------------+---------------------------+----------------+
| Environment | cryptodev_sw_zuc_autotest | dpdk_unit_test |
+=============================+===========================+================+
| Debian 12 (arm) | PASS | PASS |
+-----------------------------+---------------------------+----------------+
| Debian 11 (Buster) (ARM) | SKIPPED | PASS |
+-----------------------------+---------------------------+----------------+
| Fedora 37 (ARM) | SKIPPED | PASS |
+-----------------------------+---------------------------+----------------+
| CentOS Stream 9 (ARM) | SKIPPED | PASS |
+-----------------------------+---------------------------+----------------+
| Fedora 38 (ARM) | SKIPPED | PASS |
+-----------------------------+---------------------------+----------------+
| Ubuntu 20.04 (ARM) | SKIPPED | PASS |
+-----------------------------+---------------------------+----------------+
| 32-bit Ubuntu 20.04.4 (ARM) | SKIPPED | PASS |
+-----------------------------+---------------------------+----------------+
Debian 12 (arm)
Kernel: Container Host Kernel
Compiler: gcc 12.2.0
Debian 11 (Buster) (ARM)
Kernel: Container Host Kernel
Compiler: gcc 10.2.1
Fedora 37 (ARM)
Kernel: Depends on container host
Compiler: gcc 12.3.1
CentOS Stream 9 (ARM)
Kernel: Container Host Kernel
Compiler: gcc 11.4.1
Fedora 38 (ARM)
Kernel: Depends on container host
Compiler: gcc 13.2.1
Ubuntu 20.04 (ARM)
Kernel: Container Host Kernel
Compiler: gcc 9.4.0
32-bit Ubuntu 20.04.4 (ARM)
Kernel: 5.4.0-155-generic aarch64
Compiler: gcc 9.4
To view detailed results, visit:
https://lab.dpdk.org/results/dashboard/patchsets/30005/
UNH-IOL DPDK Community Lab
To manage your email subscriptions, visit:
https://lab.dpdk.org/results/dashboard/preferences/subscriptions/
More information about the test-report
mailing list