|SUCCESS| [GIT MASTER] 6f80df8cb0f889203d7cd27766abcc6ebc720e33

dpdklab at iol.unh.edu dpdklab at iol.unh.edu
Sun May 26 02:35:03 CEST 2024


_Testing PASS_

Branch: dpdk

6f80df8cb0f889203d7cd27766abcc6ebc720e33 --> testing pass

Test environment and result as below:

+-----------------------+---------------------------+------------------------------+----------------+--------------+
|      Environment      | cryptodev_sw_zuc_autotest | cryptodev_sw_snow3g_autotest | dpdk_unit_test | lpm_autotest |
+=======================+===========================+==============================+================+==============+
| Debian 12 (arm)       | PASS                      | PASS                         | PASS           | SKIPPED      |
+-----------------------+---------------------------+------------------------------+----------------+--------------+
| Fedora 37 (ARM)       | SKIPPED                   | SKIPPED                      | PASS           | SKIPPED      |
+-----------------------+---------------------------+------------------------------+----------------+--------------+
| CentOS Stream 9 (ARM) | SKIPPED                   | SKIPPED                      | PASS           | SKIPPED      |
+-----------------------+---------------------------+------------------------------+----------------+--------------+
| Ubuntu 20.04 ARM SVE  | SKIPPED                   | SKIPPED                      | SKIPPED        | PASS         |
+-----------------------+---------------------------+------------------------------+----------------+--------------+


Debian 12 (arm)
	Kernel: Container Host Kernel
	Compiler: gcc 12.2.0

Fedora 37 (ARM)
	Kernel: Depends on container host
	Compiler: gcc 12.3.1

CentOS Stream 9 (ARM)
	Kernel: Container Host Kernel
	Compiler: gcc 11.4.1

Ubuntu 20.04 ARM SVE
	Kernel: 5.4.0-167-generic
	Compiler: gcc (Ubuntu 10.5.0-1ubuntu1~20.04) 10.5.0

To view detailed results, visit:
https://lab.dpdk.org/results/dashboard/tarballs/29202/

UNH-IOL DPDK Community Lab

To manage your email subscriptions, visit: 
https://lab.dpdk.org/results/dashboard/preferences/subscriptions/


More information about the test-report mailing list