|SUCCESS| [GIT MASTER] a409653a123bf105970a25c594711a3cdc44d139

dpdklab at iol.unh.edu dpdklab at iol.unh.edu
Sun May 26 07:08:28 CEST 2024


_Testing PASS_

Branch: tags/v22.11

a409653a123bf105970a25c594711a3cdc44d139 --> testing pass

Test environment and result as below:

+---------------------+--------------------+
|     Environment     | dpdk_meson_compile |
+=====================+====================+
| FreeBSD 13.3        | PASS               |
+---------------------+--------------------+
| Windows Server 2019 | PASS               |
+---------------------+--------------------+
| FreeBSD 14.0        | PASS               |
+---------------------+--------------------+


FreeBSD 13.3
	Kernel: 13.3-RELEASE-p1
	Compiler: clang 17.0.6

Windows Server 2019
	Kernel: 10.0.17763
	Compiler: clang 14.0 and gcc 8.1.0 (MinGW)

FreeBSD 14.0
	Kernel: 14.0
	Compiler: clang 16.0.6

To view detailed results, visit:
https://lab.dpdk.org/results/dashboard/tarballs/29205/

UNH-IOL DPDK Community Lab

To manage your email subscriptions, visit: 
https://lab.dpdk.org/results/dashboard/preferences/subscriptions/


More information about the test-report mailing list