|SUCCESS| pw140315 [PATCH] net/mlx5: fix indirect action template er

dpdklab at iol.unh.edu dpdklab at iol.unh.edu
Sun May 26 16:17:24 CEST 2024


Test-Label: iol-unit-arm64-testing
Test-Status: SUCCESS
http://dpdk.org/patch/140315

_Testing PASS_

Submitter: Maayan Kashani <mkashani at nvidia.com>
Date: Sunday, May 26 2024 13:22:44 
DPDK git baseline: Repo:dpdk
  Branch: master
  CommitID:4720e651e6734196779aa49442d122b55342fe19

140315 --> testing pass

Test environment and result as below:

+-----------------------+---------------------------+------------------------------+----------------+
|      Environment      | cryptodev_sw_zuc_autotest | cryptodev_sw_snow3g_autotest | dpdk_unit_test |
+=======================+===========================+==============================+================+
| Debian 12 (arm)       | PASS                      | PASS                         | PASS           |
+-----------------------+---------------------------+------------------------------+----------------+
| Fedora 37 (ARM)       | SKIPPED                   | SKIPPED                      | PASS           |
+-----------------------+---------------------------+------------------------------+----------------+
| CentOS Stream 9 (ARM) | SKIPPED                   | SKIPPED                      | PASS           |
+-----------------------+---------------------------+------------------------------+----------------+


Debian 12 (arm)
	Kernel: Container Host Kernel
	Compiler: gcc 12.2.0

Fedora 37 (ARM)
	Kernel: Depends on container host
	Compiler: gcc 12.3.1

CentOS Stream 9 (ARM)
	Kernel: Container Host Kernel
	Compiler: gcc 11.4.1

To view detailed results, visit:
https://lab.dpdk.org/results/dashboard/patchsets/30012/

UNH-IOL DPDK Community Lab

To manage your email subscriptions, visit: 
https://lab.dpdk.org/results/dashboard/preferences/subscriptions/


More information about the test-report mailing list