|SUCCESS| pw140315 [PATCH] net/mlx5: fix indirect action template er
dpdklab at iol.unh.edu
dpdklab at iol.unh.edu
Sun May 26 16:47:20 CEST 2024
Test-Label: iol-unit-amd64-testing
Test-Status: SUCCESS
http://dpdk.org/patch/140315
_Testing PASS_
Submitter: Maayan Kashani <mkashani at nvidia.com>
Date: Sunday, May 26 2024 13:22:44
DPDK git baseline: Repo:dpdk
Branch: master
CommitID:4720e651e6734196779aa49442d122b55342fe19
140315 --> testing pass
Test environment and result as below:
+---------------------+----------------+
| Environment | dpdk_unit_test |
+=====================+================+
| Windows Server 2019 | PASS |
+---------------------+----------------+
| Windows Server 2022 | PASS |
+---------------------+----------------+
| CentOS Stream 8 | PASS |
+---------------------+----------------+
| CentOS Stream 9 | PASS |
+---------------------+----------------+
| Fedora 37 | PASS |
+---------------------+----------------+
| Debian Bullseye | PASS |
+---------------------+----------------+
Windows Server 2019
Kernel: 10.0.17763
Compiler: clang 14.0 and gcc 8.1.0 (MinGW)
Windows Server 2022
Kernel: 10.0.20348.2031
Compiler: clang 15.0.7, gcc 8.1.0 (MinGW), and MSVC VS 17.9
CentOS Stream 8
Kernel: 5.4.0-167-generic
Compiler: gcc 8.5.0 20210514
CentOS Stream 9
Kernel: 5.4.0-167-generic
Compiler: gcc 11.4.1 20230605
Fedora 37
Kernel: Depends on container host system
Compiler: gcc 12.3.1
Debian Bullseye
Kernel: 5.4.0-167-generic
Compiler: gcc 10.2.1-6
To view detailed results, visit:
https://lab.dpdk.org/results/dashboard/patchsets/30012/
UNH-IOL DPDK Community Lab
To manage your email subscriptions, visit:
https://lab.dpdk.org/results/dashboard/preferences/subscriptions/
More information about the test-report
mailing list