|SUCCESS| pw140316-140319 [PATCH] [v2,4/4] net/mlx5: implement VXLAN

dpdklab at iol.unh.edu dpdklab at iol.unh.edu
Mon May 27 05:32:47 CEST 2024


Test-Label: iol-unit-arm64-testing
Test-Status: SUCCESS
http://dpdk.org/patch/140319

_Testing PASS_

Submitter: rongwei liu <rongweil at nvidia.com>
Date: Monday, May 27 2024 02:47:20 
DPDK git baseline: Repo:dpdk
  Branch: master
  CommitID:2dbb63594a9a985e2c8639b57f9fcd1468b9de97

140316-140319 --> testing pass

Test environment and result as below:

+-----------------------+----------------+------------------------------+--------------+
|      Environment      | dpdk_unit_test | cryptodev_sw_snow3g_autotest | lpm_autotest |
+=======================+================+==============================+==============+
| CentOS Stream 9 (ARM) | PASS           | SKIPPED                      | SKIPPED      |
+-----------------------+----------------+------------------------------+--------------+
| Debian 12 (arm)       | SKIPPED        | PASS                         | SKIPPED      |
+-----------------------+----------------+------------------------------+--------------+
| Ubuntu 20.04 ARM SVE  | SKIPPED        | SKIPPED                      | PASS         |
+-----------------------+----------------+------------------------------+--------------+


CentOS Stream 9 (ARM)
	Kernel: Container Host Kernel
	Compiler: gcc 11.4.1

Debian 12 (arm)
	Kernel: Container Host Kernel
	Compiler: gcc 12.2.0

Ubuntu 20.04 ARM SVE
	Kernel: 5.4.0-167-generic
	Compiler: gcc (Ubuntu 10.5.0-1ubuntu1~20.04) 10.5.0

To view detailed results, visit:
https://lab.dpdk.org/results/dashboard/patchsets/30013/

UNH-IOL DPDK Community Lab

To manage your email subscriptions, visit: 
https://lab.dpdk.org/results/dashboard/preferences/subscriptions/


More information about the test-report mailing list