|SUCCESS| pw140316-140319 [PATCH] [v2,4/4] net/mlx5: implement VXLAN
dpdklab at iol.unh.edu
dpdklab at iol.unh.edu
Mon May 27 07:02:19 CEST 2024
Test-Label: iol-compile-arm64-testing
Test-Status: SUCCESS
http://dpdk.org/patch/140319
_Testing PASS_
Submitter: rongwei liu <rongweil at nvidia.com>
Date: Monday, May 27 2024 02:47:20
DPDK git baseline: Repo:dpdk
Branch: master
CommitID:2dbb63594a9a985e2c8639b57f9fcd1468b9de97
140316-140319 --> testing pass
Test environment and result as below:
+----------------------------------------+--------------------+
| Environment | dpdk_meson_compile |
+========================================+====================+
| Debian 12 with MUSDK | PASS |
+----------------------------------------+--------------------+
| Ubuntu 20.04 ARM SVE | PASS |
+----------------------------------------+--------------------+
| Fedora 37 (ARM) | PASS |
+----------------------------------------+--------------------+
| Ubuntu 20.04 (ARM) | PASS |
+----------------------------------------+--------------------+
| CentOS Stream 9 (ARM) | PASS |
+----------------------------------------+--------------------+
| Ubuntu 20.04 aarch32 GCC Cross Compile | PASS |
+----------------------------------------+--------------------+
| Ubuntu 20.04 ARM Clang Cross Compile | PASS |
+----------------------------------------+--------------------+
| Debian 12 (arm) | PASS |
+----------------------------------------+--------------------+
| Ubuntu 20.04 ARM GCC Cross Compile | PASS |
+----------------------------------------+--------------------+
| Fedora 39 (ARM Clang) | PASS |
+----------------------------------------+--------------------+
| Fedora 38 (ARM Clang) | PASS |
+----------------------------------------+--------------------+
Debian 12 with MUSDK
Kernel: Container Host Kernel
Compiler: gcc 12.2.0
Ubuntu 20.04 ARM SVE
Kernel: 5.4.0-167-generic
Compiler: gcc (Ubuntu 10.5.0-1ubuntu1~20.04) 10.5.0
Fedora 37 (ARM)
Kernel: Depends on container host
Compiler: gcc 12.3.1
Ubuntu 20.04 (ARM)
Kernel: Container Host Kernel
Compiler: gcc 9.4.0
CentOS Stream 9 (ARM)
Kernel: Container Host Kernel
Compiler: gcc 11.4.1
Ubuntu 20.04 aarch32 GCC Cross Compile
Kernel: 5.4.0-167-generic
Compiler: gcc 9.4.0
Ubuntu 20.04 ARM Clang Cross Compile
Kernel: 5.4.0-72-generic
Compiler: clang 10.0.0-4ubuntu1
Debian 12 (arm)
Kernel: Container Host Kernel
Compiler: gcc 12.2.0
Ubuntu 20.04 ARM GCC Cross Compile
Kernel: 5.4.0-167-generic
Compiler: aarch64-linux-gnu-gcc (Ubuntu 9.4.0-1ubuntu1~20.04.2) 9.4.0
Fedora 39 (ARM Clang)
Kernel: Depends on container host
Compiler: clang 17.0.6
Fedora 38 (ARM Clang)
Kernel: Depends on container host
Compiler: clang 16.0.6
To view detailed results, visit:
https://lab.dpdk.org/results/dashboard/patchsets/30013/
UNH-IOL DPDK Community Lab
To manage your email subscriptions, visit:
https://lab.dpdk.org/results/dashboard/preferences/subscriptions/
More information about the test-report
mailing list