|SUCCESS| pw140321 [PATCH] r8125: add r8125 ethernet poll mode drive

dpdklab at iol.unh.edu dpdklab at iol.unh.edu
Mon May 27 09:48:39 CEST 2024


Test-Label: iol-compile-amd64-testing
Test-Status: SUCCESS
http://dpdk.org/patch/140321

_Testing PASS_

Submitter: Howard Wang <howard_wang at realsil.com.cn>
Date: Monday, May 27 2024 06:15:28 
DPDK git baseline: Repo:dpdk
  Branch: master
  CommitID:2dbb63594a9a985e2c8639b57f9fcd1468b9de97

140321 --> testing pass

Test environment and result as below:

+---------------------+--------------------+------------------+----------------------+-------------------+
|     Environment     | dpdk_meson_compile | dpdk_compile_ovs | dpdk_mingw64_compile | dpdk_msvc_compile |
+=====================+====================+==================+======================+===================+
| FreeBSD 13.3        | PASS               | SKIPPED          | SKIPPED              | SKIPPED           |
+---------------------+--------------------+------------------+----------------------+-------------------+
| Windows Server 2019 | PASS               | SKIPPED          | PASS                 | SKIPPED           |
+---------------------+--------------------+------------------+----------------------+-------------------+
| Windows Server 2022 | PASS               | SKIPPED          | PASS                 | PASS              |
+---------------------+--------------------+------------------+----------------------+-------------------+
| CentOS Stream 8     | PASS               | PASS             | SKIPPED              | SKIPPED           |
+---------------------+--------------------+------------------+----------------------+-------------------+
| FreeBSD 14.0        | PASS               | SKIPPED          | SKIPPED              | SKIPPED           |
+---------------------+--------------------+------------------+----------------------+-------------------+
| CentOS Stream 9     | PASS               | PASS             | SKIPPED              | SKIPPED           |
+---------------------+--------------------+------------------+----------------------+-------------------+
| Debian Bullseye     | PASS               | PASS             | SKIPPED              | SKIPPED           |
+---------------------+--------------------+------------------+----------------------+-------------------+
| Fedora 37           | PASS               | PASS             | SKIPPED              | SKIPPED           |
+---------------------+--------------------+------------------+----------------------+-------------------+


FreeBSD 13.3
	Kernel: 13.3-RELEASE-p1
	Compiler: clang 17.0.6

Windows Server 2019
	Kernel: 10.0.17763
	Compiler: clang 14.0 and gcc 8.1.0 (MinGW)

Windows Server 2022
	Kernel: 10.0.20348.2031
	Compiler: clang 15.0.7, gcc 8.1.0 (MinGW), and MSVC VS 17.9

CentOS Stream 8
	Kernel: 5.4.0-167-generic
	Compiler: gcc 8.5.0 20210514

FreeBSD 14.0
	Kernel: 14.0
	Compiler: clang 16.0.6

CentOS Stream 9
	Kernel: 5.4.0-167-generic
	Compiler: gcc 11.4.1 20230605

Debian Bullseye
	Kernel: 5.4.0-167-generic
	Compiler: gcc 10.2.1-6

Fedora 37
	Kernel: Depends on container host system
	Compiler: gcc 12.3.1

To view detailed results, visit:
https://lab.dpdk.org/results/dashboard/patchsets/30015/

UNH-IOL DPDK Community Lab

To manage your email subscriptions, visit: 
https://lab.dpdk.org/results/dashboard/preferences/subscriptions/


More information about the test-report mailing list