|SUCCESS| [GIT MASTER] 77e63757d2a0106a0cc519f5a82e2d749d16475a

dpdklab at iol.unh.edu dpdklab at iol.unh.edu
Mon May 27 19:01:34 CEST 2024


_Testing PASS_

Branch: dpdk-next-eventdev

77e63757d2a0106a0cc519f5a82e2d749d16475a --> testing pass

Test environment and result as below:

+---------------------+--------------------+------------------+----------------------+
|     Environment     | dpdk_meson_compile | dpdk_compile_ovs | dpdk_mingw64_compile |
+=====================+====================+==================+======================+
| Fedora 37           | PASS               | PASS             | SKIPPED              |
+---------------------+--------------------+------------------+----------------------+
| FreeBSD 13.3        | PASS               | SKIPPED          | SKIPPED              |
+---------------------+--------------------+------------------+----------------------+
| Debian Bullseye     | PASS               | PASS             | SKIPPED              |
+---------------------+--------------------+------------------+----------------------+
| Windows Server 2022 | PASS               | SKIPPED          | PASS                 |
+---------------------+--------------------+------------------+----------------------+
| Debian 12           | PASS               | PASS             | SKIPPED              |
+---------------------+--------------------+------------------+----------------------+
| Windows Server 2019 | PASS               | SKIPPED          | SKIPPED              |
+---------------------+--------------------+------------------+----------------------+
| Fedora 39           | PASS               | PASS             | SKIPPED              |
+---------------------+--------------------+------------------+----------------------+
| FreeBSD 14.0        | PASS               | SKIPPED          | SKIPPED              |
+---------------------+--------------------+------------------+----------------------+


Fedora 37
	Kernel: Depends on container host system
	Compiler: gcc 12.3.1

FreeBSD 13.3
	Kernel: 13.3-RELEASE-p1
	Compiler: clang 17.0.6

Debian Bullseye
	Kernel: 5.4.0-167-generic
	Compiler: gcc 10.2.1-6

Windows Server 2022
	Kernel: 10.0.20348.2031
	Compiler: clang 15.0.7, gcc 8.1.0 (MinGW), and MSVC VS 17.9

Debian 12
	Kernel: Container Host Kernel
	Compiler: gcc 10.2.1

Windows Server 2019
	Kernel: 10.0.17763
	Compiler: clang 14.0 and gcc 8.1.0 (MinGW)

Fedora 39
	Kernel: Depends on container host
	Compiler: gcc 13.2.1

FreeBSD 14.0
	Kernel: 14.0
	Compiler: clang 16.0.6

To view detailed results, visit:
https://lab.dpdk.org/results/dashboard/tarballs/29216/

UNH-IOL DPDK Community Lab

To manage your email subscriptions, visit: 
https://lab.dpdk.org/results/dashboard/preferences/subscriptions/


More information about the test-report mailing list