|SUCCESS| pw140357-140381 [PATCH] [25/25] net/cpfl: updating idpf vc
dpdklab at iol.unh.edu
dpdklab at iol.unh.edu
Tue May 28 13:02:00 CEST 2024
Test-Label: iol-abi-testing
Test-Status: SUCCESS
http://dpdk.org/patch/140381
_Testing PASS_
Submitter: Soumyadeep Hore <soumyadeep.hore at intel.com>
Date: Tuesday, May 28 2024 07:36:30
DPDK git baseline: Repo:dpdk
Branch: master
CommitID:19be1a0ba8af8a513adb011a3017d583d6312fc9
140357-140381 --> testing pass
Test environment and result as below:
+------------------+----------+
| Environment | abi_test |
+==================+==========+
| Fedora 39 | PASS |
+------------------+----------+
| Debian Bullseye | PASS |
+------------------+----------+
| Fedora 38 | PASS |
+------------------+----------+
| CentOS Stream 8 | PASS |
+------------------+----------+
| Fedora 37 | PASS |
+------------------+----------+
| CentOS Stream 9 | PASS |
+------------------+----------+
| openSUSE Leap 15 | PASS |
+------------------+----------+
| Debian 12 | PASS |
+------------------+----------+
| RHEL8 | PASS |
+------------------+----------+
| Ubuntu 22.04 | PASS |
+------------------+----------+
Fedora 39
Kernel: Depends on container host
Compiler: gcc 13.2.1
Debian Bullseye
Kernel: 5.4.0-167-generic
Compiler: gcc 10.2.1-6
Fedora 38
Kernel: Depends on container host
Compiler: gcc 13.2.1
CentOS Stream 8
Kernel: 5.4.0-167-generic
Compiler: gcc 8.5.0 20210514
Fedora 37
Kernel: Depends on container host system
Compiler: gcc 12.3.1
CentOS Stream 9
Kernel: 5.4.0-167-generic
Compiler: gcc 11.4.1 20230605
openSUSE Leap 15
Kernel: 5.4.0-167-generic
Compiler: gcc 7.5.0
Debian 12
Kernel: Container Host Kernel
Compiler: gcc 10.2.1
RHEL8
Kernel: 5.4.0-167-generic
Compiler: gcc 8.5.0 20210514 (Red Hat 8.5.0-20)
Ubuntu 22.04
Kernel: 5.4.0-167-generic
Compiler: gcc 11.4.0
To view detailed results, visit:
https://lab.dpdk.org/results/dashboard/patchsets/30032/
UNH-IOL DPDK Community Lab
To manage your email subscriptions, visit:
https://lab.dpdk.org/results/dashboard/preferences/subscriptions/
More information about the test-report
mailing list