|SUCCESS| pw140382 [PATCH] net/cnxk: fix promiscuous state after MAC

dpdklab at iol.unh.edu dpdklab at iol.unh.edu
Tue May 28 16:42:24 CEST 2024


Test-Label: iol-unit-amd64-testing
Test-Status: SUCCESS
http://dpdk.org/patch/140382

_Testing PASS_

Submitter: Rahul Bhansali <rbhansali at marvell.com>
Date: Tuesday, May 28 2024 08:32:46 
DPDK git baseline: Repo:dpdk
  Branch: master
  CommitID:0271d6dc6c793cbe30054b5328c232a6d43d7297

140382 --> testing pass

Test environment and result as below:

+------------------+----------------+
|   Environment    | dpdk_unit_test |
+==================+================+
| Debian Bullseye  | PASS           |
+------------------+----------------+
| CentOS Stream 8  | PASS           |
+------------------+----------------+
| Fedora 37        | PASS           |
+------------------+----------------+
| Fedora 38        | PASS           |
+------------------+----------------+
| RHEL8            | PASS           |
+------------------+----------------+
| openSUSE Leap 15 | PASS           |
+------------------+----------------+
| Fedora 39        | PASS           |
+------------------+----------------+
| Ubuntu 20.04     | PASS           |
+------------------+----------------+
| Debian 12        | PASS           |
+------------------+----------------+


Debian Bullseye
	Kernel: 5.4.0-167-generic
	Compiler: gcc 10.2.1-6

CentOS Stream 8
	Kernel: 5.4.0-167-generic
	Compiler: gcc 8.5.0 20210514

Fedora 37
	Kernel: Depends on container host system
	Compiler: gcc 12.3.1

Fedora 38
	Kernel: Depends on container host
	Compiler: clang 16.0.6

RHEL8
	Kernel: 5.4.0-167-generic
	Compiler: gcc 8.5.0 20210514 (Red Hat 8.5.0-20)

openSUSE Leap 15
	Kernel: 5.4.0-167-generic
	Compiler: gcc 7.5.0

Fedora 39
	Kernel: Depends on container host
	Compiler: clang 17.0.6

Ubuntu 20.04
	Kernel: 5.4.0-167-generic
	Compiler: gcc 9.4.0-1ubuntu1~20.04.1

Debian 12
	Kernel: Container Host Kernel
	Compiler: gcc 10.2.1

To view detailed results, visit:
https://lab.dpdk.org/results/dashboard/patchsets/30033/

UNH-IOL DPDK Community Lab

To manage your email subscriptions, visit: 
https://lab.dpdk.org/results/dashboard/preferences/subscriptions/


More information about the test-report mailing list