|SUCCESS| pw140382 [PATCH] net/cnxk: fix promiscuous state after MAC

dpdklab at iol.unh.edu dpdklab at iol.unh.edu
Tue May 28 16:44:22 CEST 2024


Test-Label: iol-unit-arm64-testing
Test-Status: SUCCESS
http://dpdk.org/patch/140382

_Testing PASS_

Submitter: Rahul Bhansali <rbhansali at marvell.com>
Date: Tuesday, May 28 2024 08:32:46 
DPDK git baseline: Repo:dpdk
  Branch: master
  CommitID:0271d6dc6c793cbe30054b5328c232a6d43d7297

140382 --> testing pass

Test environment and result as below:

+-----------------------------+--------------+----------------+---------------------------+
|         Environment         | lpm_autotest | dpdk_unit_test | cryptodev_sw_zuc_autotest |
+=============================+==============+================+===========================+
| Ubuntu 20.04 ARM SVE        | PASS         | SKIPPED        | SKIPPED                   |
+-----------------------------+--------------+----------------+---------------------------+
| 32-bit Ubuntu 20.04.4 (ARM) | SKIPPED      | PASS           | SKIPPED                   |
+-----------------------------+--------------+----------------+---------------------------+
| Debian 12 (arm)             | SKIPPED      | SKIPPED        | PASS                      |
+-----------------------------+--------------+----------------+---------------------------+


Ubuntu 20.04 ARM SVE
	Kernel: 5.4.0-167-generic
	Compiler: gcc (Ubuntu 10.5.0-1ubuntu1~20.04) 10.5.0

32-bit Ubuntu 20.04.4 (ARM)
	Kernel: 5.4.0-155-generic aarch64
	Compiler: gcc 9.4

Debian 12 (arm)
	Kernel: Container Host Kernel
	Compiler: gcc 12.2.0

To view detailed results, visit:
https://lab.dpdk.org/results/dashboard/patchsets/30033/

UNH-IOL DPDK Community Lab

To manage your email subscriptions, visit: 
https://lab.dpdk.org/results/dashboard/preferences/subscriptions/


More information about the test-report mailing list