|SUCCESS| pw140385-140389 [PATCH] [v12,6/6] test: add unit test for
dpdklab at iol.unh.edu
dpdklab at iol.unh.edu
Wed May 29 13:37:00 CEST 2024
Test-Label: iol-compile-arm64-testing
Test-Status: SUCCESS
http://dpdk.org/patch/140389
_Testing PASS_
Submitter: Paul Szczepanek <paul.szczepanek at arm.com>
Date: Wednesday, May 29 2024 10:22:42
DPDK git baseline: Repo:dpdk
Branch: master
CommitID:0ad961387e94a9ccfc1484a1d742d6f79eda9cd9
140385-140389 --> testing pass
Test environment and result as below:
+----------------------+--------------------+
| Environment | dpdk_meson_compile |
+======================+====================+
| Ubuntu 20.04 ARM SVE | PASS |
+----------------------+--------------------+
| Debian 12 (arm) | PASS |
+----------------------+--------------------+
| Debian 12 with MUSDK | PASS |
+----------------------+--------------------+
| Ubuntu 20.04 (ARM) | PASS |
+----------------------+--------------------+
| Fedora 37 (ARM) | PASS |
+----------------------+--------------------+
Ubuntu 20.04 ARM SVE
Kernel: 5.4.0-167-generic
Compiler: gcc (Ubuntu 10.5.0-1ubuntu1~20.04) 10.5.0
Debian 12 (arm)
Kernel: Container Host Kernel
Compiler: gcc 12.2.0
Debian 12 with MUSDK
Kernel: Container Host Kernel
Compiler: gcc 12.2.0
Ubuntu 20.04 (ARM)
Kernel: Container Host Kernel
Compiler: gcc 9.4.0
Fedora 37 (ARM)
Kernel: Depends on container host
Compiler: gcc 12.3.1
To view detailed results, visit:
https://lab.dpdk.org/results/dashboard/patchsets/30036/
UNH-IOL DPDK Community Lab
To manage your email subscriptions, visit:
https://lab.dpdk.org/results/dashboard/preferences/subscriptions/
More information about the test-report
mailing list