|SUCCESS| pw140433-140437 [PATCH] [v13,6/6] test: add unit test for

dpdklab at iol.unh.edu dpdklab at iol.unh.edu
Thu May 30 17:51:28 CEST 2024


Test-Label: iol-unit-amd64-testing
Test-Status: SUCCESS
http://dpdk.org/patch/140437

_Testing PASS_

Submitter: Paul Szczepanek <paul.szczepanek at arm.com>
Date: Thursday, May 30 2024 09:40:42 
DPDK git baseline: Repo:dpdk
  Branch: master
  CommitID:76cef1af8bdaeaf67a5c4ca5df3f221df994dc46

140433-140437 --> testing pass

Test environment and result as below:

+-----------------------------+----------------+
|         Environment         | dpdk_unit_test |
+=============================+================+
| CentOS Stream 9 (ARM)       | PASS           |
+-----------------------------+----------------+
| 32-bit Ubuntu 20.04.4 (ARM) | PASS           |
+-----------------------------+----------------+
| Debian 12 (arm)             | PASS           |
+-----------------------------+----------------+
| Fedora 37 (ARM)             | PASS           |
+-----------------------------+----------------+


CentOS Stream 9 (ARM)
	Kernel: Container Host Kernel
	Compiler: gcc 11.4.1

32-bit Ubuntu 20.04.4 (ARM)
	Kernel: 5.4.0-155-generic aarch64
	Compiler: gcc 9.4

Debian 12 (arm)
	Kernel: Container Host Kernel
	Compiler: gcc 12.2.0

Fedora 37 (ARM)
	Kernel: Depends on container host
	Compiler: gcc 12.3.1

To view detailed results, visit:
https://lab.dpdk.org/results/dashboard/patchsets/30048/

UNH-IOL DPDK Community Lab

To manage your email subscriptions, visit: 
https://lab.dpdk.org/results/dashboard/preferences/subscriptions/


More information about the test-report mailing list