|SUCCESS| pw140505-140506 [PATCH] [2/2] eal/riscv: add support for z

dpdklab at iol.unh.edu dpdklab at iol.unh.edu
Thu May 30 21:26:35 CEST 2024


Test-Label: iol-unit-amd64-testing
Test-Status: SUCCESS
http://dpdk.org/patch/140506

_Testing PASS_

Submitter: Daniel Gregory <daniel.gregory at bytedance.com>
Date: Thursday, May 30 2024 17:19:48 
DPDK git baseline: Repo:dpdk
  Branch: master
  CommitID:76cef1af8bdaeaf67a5c4ca5df3f221df994dc46

140505-140506 --> testing pass

Test environment and result as below:

+-----------------------------+------------------------------+----------------+--------------+
|         Environment         | cryptodev_sw_snow3g_autotest | dpdk_unit_test | lpm_autotest |
+=============================+==============================+================+==============+
| Debian 12 (arm)             | PASS                         | SKIPPED        | SKIPPED      |
+-----------------------------+------------------------------+----------------+--------------+
| 32-bit Ubuntu 20.04.4 (ARM) | SKIPPED                      | PASS           | SKIPPED      |
+-----------------------------+------------------------------+----------------+--------------+
| Ubuntu 20.04 ARM SVE        | SKIPPED                      | SKIPPED        | PASS         |
+-----------------------------+------------------------------+----------------+--------------+


Debian 12 (arm)
	Kernel: Container Host Kernel
	Compiler: gcc 12.2.0

32-bit Ubuntu 20.04.4 (ARM)
	Kernel: 5.4.0-155-generic aarch64
	Compiler: gcc 9.4

Ubuntu 20.04 ARM SVE
	Kernel: 5.4.0-167-generic
	Compiler: gcc (Ubuntu 10.5.0-1ubuntu1~20.04) 10.5.0

To view detailed results, visit:
https://lab.dpdk.org/results/dashboard/patchsets/30058/

UNH-IOL DPDK Community Lab

To manage your email subscriptions, visit: 
https://lab.dpdk.org/results/dashboard/preferences/subscriptions/


More information about the test-report mailing list