|SUCCESS| pw140507 [PATCH] net/virtio: fix MAC table update
dpdklab at iol.unh.edu
dpdklab at iol.unh.edu
Fri May 31 05:12:13 CEST 2024
Test-Label: iol-unit-amd64-testing
Test-Status: SUCCESS
http://dpdk.org/patch/140507
_Testing PASS_
Submitter: Satha Koteswara Rao Kottidi <skoteshwar at marvell.com>
Date: Thursday, May 30 2024 17:40:39
DPDK git baseline: Repo:dpdk
Branch: master
CommitID:6f80df8cb0f889203d7cd27766abcc6ebc720e33
140507 --> testing pass
Test environment and result as below:
+-----------------------------+----------------+--------------+---------------------------+------------------------------+
| Environment | dpdk_unit_test | lpm_autotest | cryptodev_sw_zuc_autotest | cryptodev_sw_snow3g_autotest |
+=============================+================+==============+===========================+==============================+
| CentOS Stream 9 (ARM) | PASS | SKIPPED | SKIPPED | SKIPPED |
+-----------------------------+----------------+--------------+---------------------------+------------------------------+
| Debian 12 (arm) | PASS | SKIPPED | PASS | PASS |
+-----------------------------+----------------+--------------+---------------------------+------------------------------+
| Debian 11 (Buster) (ARM) | PASS | SKIPPED | SKIPPED | SKIPPED |
+-----------------------------+----------------+--------------+---------------------------+------------------------------+
| Fedora 38 (ARM) | PASS | SKIPPED | SKIPPED | SKIPPED |
+-----------------------------+----------------+--------------+---------------------------+------------------------------+
| Fedora 39 (ARM) | PASS | SKIPPED | SKIPPED | SKIPPED |
+-----------------------------+----------------+--------------+---------------------------+------------------------------+
| Fedora 37 (ARM) | PASS | SKIPPED | SKIPPED | SKIPPED |
+-----------------------------+----------------+--------------+---------------------------+------------------------------+
| 32-bit Ubuntu 20.04.4 (ARM) | PASS | SKIPPED | SKIPPED | SKIPPED |
+-----------------------------+----------------+--------------+---------------------------+------------------------------+
| Ubuntu 20.04 (ARM) | PASS | SKIPPED | SKIPPED | SKIPPED |
+-----------------------------+----------------+--------------+---------------------------+------------------------------+
| Fedora 39 (ARM Clang) | PASS | SKIPPED | SKIPPED | SKIPPED |
+-----------------------------+----------------+--------------+---------------------------+------------------------------+
| Ubuntu 20.04 ARM SVE | SKIPPED | PASS | SKIPPED | SKIPPED |
+-----------------------------+----------------+--------------+---------------------------+------------------------------+
CentOS Stream 9 (ARM)
Kernel: Container Host Kernel
Compiler: gcc 11.4.1
Debian 12 (arm)
Kernel: Container Host Kernel
Compiler: gcc 12.2.0
Debian 11 (Buster) (ARM)
Kernel: Container Host Kernel
Compiler: gcc 10.2.1
Fedora 38 (ARM)
Kernel: Depends on container host
Compiler: gcc 13.2.1
Fedora 39 (ARM)
Kernel: Depends on container host
Compiler: gcc 13.2.1
Fedora 37 (ARM)
Kernel: Depends on container host
Compiler: gcc 12.3.1
32-bit Ubuntu 20.04.4 (ARM)
Kernel: 5.4.0-155-generic aarch64
Compiler: gcc 9.4
Ubuntu 20.04 (ARM)
Kernel: Container Host Kernel
Compiler: gcc 9.4.0
Fedora 39 (ARM Clang)
Kernel: Depends on container host
Compiler: clang 17.0.6
Ubuntu 20.04 ARM SVE
Kernel: 5.4.0-167-generic
Compiler: gcc (Ubuntu 10.5.0-1ubuntu1~20.04) 10.5.0
To view detailed results, visit:
https://lab.dpdk.org/results/dashboard/patchsets/30059/
UNH-IOL DPDK Community Lab
To manage your email subscriptions, visit:
https://lab.dpdk.org/results/dashboard/preferences/subscriptions/
More information about the test-report
mailing list