|SUCCESS| pw140517-140519 [PATCH] [v6,3/3] dts: store stderr in Remo

dpdklab at iol.unh.edu dpdklab at iol.unh.edu
Fri May 31 14:14:45 CEST 2024


Test-Label: iol-compile-arm64-testing
Test-Status: SUCCESS
http://dpdk.org/patch/140519

_Testing PASS_

Submitter: Luca Vizzarro <luca.vizzarro at arm.com>
Date: Friday, May 31 2024 11:20:42 
DPDK git baseline: Repo:dpdk
  Branch: master
  CommitID:76cef1af8bdaeaf67a5c4ca5df3f221df994dc46

140517-140519 --> testing pass

Test environment and result as below:

+---------------------+--------------------+------------------+----------------------+
|     Environment     | dpdk_meson_compile | dpdk_compile_ovs | dpdk_mingw64_compile |
+=====================+====================+==================+======================+
| FreeBSD 13.3        | PASS               | SKIPPED          | SKIPPED              |
+---------------------+--------------------+------------------+----------------------+
| CentOS Stream 8     | PASS               | PASS             | SKIPPED              |
+---------------------+--------------------+------------------+----------------------+
| Debian Bullseye     | PASS               | PASS             | SKIPPED              |
+---------------------+--------------------+------------------+----------------------+
| Debian 12           | PASS               | PASS             | SKIPPED              |
+---------------------+--------------------+------------------+----------------------+
| FreeBSD 14.0        | PASS               | SKIPPED          | SKIPPED              |
+---------------------+--------------------+------------------+----------------------+
| Windows Server 2019 | PASS               | SKIPPED          | PASS                 |
+---------------------+--------------------+------------------+----------------------+
| Windows Server 2022 | PASS               | SKIPPED          | PASS                 |
+---------------------+--------------------+------------------+----------------------+
| CentOS Stream 9     | PASS               | PASS             | SKIPPED              |
+---------------------+--------------------+------------------+----------------------+
| Fedora 38           | PASS               | PASS             | SKIPPED              |
+---------------------+--------------------+------------------+----------------------+
| RHEL8               | PASS               | PASS             | SKIPPED              |
+---------------------+--------------------+------------------+----------------------+


FreeBSD 13.3
	Kernel: 13.3-RELEASE-p1
	Compiler: clang 17.0.6

CentOS Stream 8
	Kernel: 5.4.0-167-generic
	Compiler: gcc 8.5.0 20210514

Debian Bullseye
	Kernel: 5.4.0-167-generic
	Compiler: gcc 10.2.1-6

Debian 12
	Kernel: Container Host Kernel
	Compiler: gcc 10.2.1

FreeBSD 14.0
	Kernel: 14.0
	Compiler: clang 16.0.6

Windows Server 2019
	Kernel: 10.0.17763
	Compiler: clang 14.0 and gcc 8.1.0 (MinGW)

Windows Server 2022
	Kernel: 10.0.20348.2031
	Compiler: clang 15.0.7, gcc 8.1.0 (MinGW), and MSVC VS 17.9

CentOS Stream 9
	Kernel: 5.4.0-167-generic
	Compiler: gcc 11.4.1 20230605

Fedora 38
	Kernel: Depends on container host
	Compiler: gcc 13.2.1

RHEL8
	Kernel: 5.4.0-167-generic
	Compiler: gcc 8.5.0 20210514 (Red Hat 8.5.0-20)

To view detailed results, visit:
https://lab.dpdk.org/results/dashboard/patchsets/30064/

UNH-IOL DPDK Community Lab

To manage your email subscriptions, visit: 
https://lab.dpdk.org/results/dashboard/preferences/subscriptions/


More information about the test-report mailing list