|SUCCESS| pw140517-140519 [PATCH] [v6,3/3] dts: store stderr in Remo

dpdklab at iol.unh.edu dpdklab at iol.unh.edu
Fri May 31 22:32:12 CEST 2024


Test-Label: iol-unit-arm64-testing
Test-Status: SUCCESS
http://dpdk.org/patch/140519

_Testing PASS_

Submitter: Luca Vizzarro <luca.vizzarro at arm.com>
Date: Friday, May 31 2024 11:20:42 
DPDK git baseline: Repo:dpdk
  Branch: master
  CommitID:76cef1af8bdaeaf67a5c4ca5df3f221df994dc46

140517-140519 --> testing pass

Test environment and result as below:

+--------------------------+------------------------------+----------------+--------------+
|       Environment        | cryptodev_sw_snow3g_autotest | dpdk_unit_test | lpm_autotest |
+==========================+==============================+================+==============+
| Debian 12 (arm)          | PASS                         | PASS           | SKIPPED      |
+--------------------------+------------------------------+----------------+--------------+
| Debian 11 (Buster) (ARM) | SKIPPED                      | PASS           | SKIPPED      |
+--------------------------+------------------------------+----------------+--------------+
| CentOS Stream 9 (ARM)    | SKIPPED                      | PASS           | SKIPPED      |
+--------------------------+------------------------------+----------------+--------------+
| Fedora 38 (ARM)          | SKIPPED                      | PASS           | SKIPPED      |
+--------------------------+------------------------------+----------------+--------------+
| Fedora 39 (ARM)          | SKIPPED                      | PASS           | SKIPPED      |
+--------------------------+------------------------------+----------------+--------------+
| Fedora 37 (ARM)          | SKIPPED                      | PASS           | SKIPPED      |
+--------------------------+------------------------------+----------------+--------------+
| Ubuntu 20.04 (ARM)       | SKIPPED                      | PASS           | SKIPPED      |
+--------------------------+------------------------------+----------------+--------------+
| Ubuntu 20.04 ARM SVE     | SKIPPED                      | SKIPPED        | PASS         |
+--------------------------+------------------------------+----------------+--------------+


Debian 12 (arm)
	Kernel: Container Host Kernel
	Compiler: gcc 12.2.0

Debian 11 (Buster) (ARM)
	Kernel: Container Host Kernel
	Compiler: gcc 10.2.1

CentOS Stream 9 (ARM)
	Kernel: Container Host Kernel
	Compiler: gcc 11.4.1

Fedora 38 (ARM)
	Kernel: Depends on container host
	Compiler: gcc 13.2.1

Fedora 39 (ARM)
	Kernel: Depends on container host
	Compiler: gcc 13.2.1

Fedora 37 (ARM)
	Kernel: Depends on container host
	Compiler: gcc 12.3.1

Ubuntu 20.04 (ARM)
	Kernel: Container Host Kernel
	Compiler: gcc 9.4.0

Ubuntu 20.04 ARM SVE
	Kernel: 5.4.0-167-generic
	Compiler: gcc (Ubuntu 10.5.0-1ubuntu1~20.04) 10.5.0

To view detailed results, visit:
https://lab.dpdk.org/results/dashboard/patchsets/30064/

UNH-IOL DPDK Community Lab

To manage your email subscriptions, visit: 
https://lab.dpdk.org/results/dashboard/preferences/subscriptions/


More information about the test-report mailing list