|SUCCESS| pw147243 [PATCH] net/i40e/base: fix invalid log format cha
dpdklab at iol.unh.edu
dpdklab at iol.unh.edu
Fri Nov 1 22:15:25 CET 2024
Test-Label: iol-compile-amd64-testing
Test-Status: SUCCESS
http://dpdk.org/patch/147243
_Testing PASS_
Submitter: Bruce Richardson <bruce.richardson at intel.com>
Date: Friday, October 25 2024 12:27:46
DPDK git baseline: Repo:dpdk
Branch: master
CommitID:69c0ffb893fa9c1c7b00947a2801cef50ebc65d4
147243 --> testing pass
Upstream job id: Windows-Compile-DPDK-Native#23990
Test environment and result as below:
+---------------------+----------------------+-----------------------+--------------------+------------------+-------------------+-------------------+
| Environment | dpdk_mingw64_compile | dpdk_win_llvm_compile | dpdk_meson_compile | dpdk_compile_ovs | dpdk_compile_spdk | dpdk_msvc_compile |
+=====================+======================+=======================+====================+==================+===================+===================+
| Windows Server 2022 | PASS | PASS | SKIPPED | SKIPPED | SKIPPED | PASS |
+---------------------+----------------------+-----------------------+--------------------+------------------+-------------------+-------------------+
| CentOS Stream 9 | SKIPPED | SKIPPED | PASS | PASS | PASS | SKIPPED |
+---------------------+----------------------+-----------------------+--------------------+------------------+-------------------+-------------------+
| Debian Bullseye | SKIPPED | SKIPPED | PASS | PASS | PASS | SKIPPED |
+---------------------+----------------------+-----------------------+--------------------+------------------+-------------------+-------------------+
| Debian 12 | SKIPPED | SKIPPED | PASS | PASS | PASS | SKIPPED |
+---------------------+----------------------+-----------------------+--------------------+------------------+-------------------+-------------------+
| Fedora 38 (Clang) | SKIPPED | SKIPPED | PASS | PASS | PASS | SKIPPED |
+---------------------+----------------------+-----------------------+--------------------+------------------+-------------------+-------------------+
| Fedora 39 (Clang) | SKIPPED | SKIPPED | PASS | PASS | PASS | SKIPPED |
+---------------------+----------------------+-----------------------+--------------------+------------------+-------------------+-------------------+
| Fedora 37 | SKIPPED | SKIPPED | PASS | PASS | PASS | SKIPPED |
+---------------------+----------------------+-----------------------+--------------------+------------------+-------------------+-------------------+
| Fedora 38 | SKIPPED | SKIPPED | PASS | PASS | PASS | SKIPPED |
+---------------------+----------------------+-----------------------+--------------------+------------------+-------------------+-------------------+
| openSUSE Leap 15 | SKIPPED | SKIPPED | PASS | PASS | SKIPPED | SKIPPED |
+---------------------+----------------------+-----------------------+--------------------+------------------+-------------------+-------------------+
| Fedora 40 (Clang) | SKIPPED | SKIPPED | PASS | PASS | PASS | SKIPPED |
+---------------------+----------------------+-----------------------+--------------------+------------------+-------------------+-------------------+
| Fedora 39 | SKIPPED | SKIPPED | PASS | PASS | PASS | SKIPPED |
+---------------------+----------------------+-----------------------+--------------------+------------------+-------------------+-------------------+
| Fedora 40 | SKIPPED | SKIPPED | PASS | PASS | PASS | SKIPPED |
+---------------------+----------------------+-----------------------+--------------------+------------------+-------------------+-------------------+
| RHEL8 | SKIPPED | SKIPPED | PASS | PASS | SKIPPED | SKIPPED |
+---------------------+----------------------+-----------------------+--------------------+------------------+-------------------+-------------------+
| RHEL9 | SKIPPED | SKIPPED | PASS | PASS | SKIPPED | SKIPPED |
+---------------------+----------------------+-----------------------+--------------------+------------------+-------------------+-------------------+
| Ubuntu 20.04 | SKIPPED | SKIPPED | PASS | PASS | SKIPPED | SKIPPED |
+---------------------+----------------------+-----------------------+--------------------+------------------+-------------------+-------------------+
| Ubuntu 24.04 | SKIPPED | SKIPPED | PASS | PASS | PASS | SKIPPED |
+---------------------+----------------------+-----------------------+--------------------+------------------+-------------------+-------------------+
| Ubuntu 22.04 | SKIPPED | SKIPPED | PASS | PASS | PASS | SKIPPED |
+---------------------+----------------------+-----------------------+--------------------+------------------+-------------------+-------------------+
| Alpine | SKIPPED | SKIPPED | PASS | PASS | SKIPPED | SKIPPED |
+---------------------+----------------------+-----------------------+--------------------+------------------+-------------------+-------------------+
Windows Server 2022
Kernel: 10.0.20348.2031
Compiler: clang 15.0.7, gcc 14.1.0 (MinGW), and MSVC VS 19.39.33521
CentOS Stream 9
Kernel: Depends on container host
Compiler: gcc 11.4.1 20231218 (Red Hat 11.4.1-3)
Debian Bullseye
Kernel: Depends on container host
Compiler: gcc (Debian 10.2.1-6) 10.2.1 20210110
Debian 12
Kernel: Depends on container host
Compiler: gcc (Debian 12.2.0-14) 12.2.0
Fedora 38 (Clang)
Kernel: Depends on container host
Compiler: clang 16.0.6 (Fedora 16.0.6-4.fc38)
Fedora 39 (Clang)
Kernel: Depends on container host
Compiler: clang 17.0.6 (Fedora 17.0.6-2.fc39)
Fedora 37
Kernel: Depends on container host system
Compiler: gcc 12.3.1 20230508 (Red Hat 12.3.1-1)
Fedora 38
Kernel: Depends on container host
Compiler: gcc 13.2.1 20240316 (Red Hat 13.2.1-7)
openSUSE Leap 15
Kernel: Depends on container host
Compiler: gcc (SUSE Linux) 7.5.0
Fedora 40 (Clang)
Kernel: Depends on container host
Compiler: clang 18.1.6 (Fedora 18.1.6-3.fc40)
Fedora 39
Kernel: Depends on container host
Compiler: gcc 13.3.1 20240522 (Red Hat 13.3.1-1)
Fedora 40
Kernel: Depends on container host
Compiler: gcc 14.2.1 20240801 (Red Hat 14.2.1-1)
RHEL8
Kernel: Depends on container host
Compiler: gcc 8.5.0 20210514 (Red Hat 8.5.0-22)
RHEL9
Kernel: Depends on container host
Compiler: gcc 11.4.1 20231218 (Red Hat 11.4.1-3)
Ubuntu 20.04
Kernel: Depends on container host
Compiler: gcc (Ubuntu 9.4.0-1ubuntu1~20.04.2) 9.4.0
Ubuntu 24.04
Kernel: Depends on container host
Compiler: gcc (Ubuntu 13.2.0-23ubuntu4) 13.2.0
Ubuntu 22.04
Kernel: Depends on container host
Compiler: gcc (Ubuntu 11.4.0-1ubuntu1~22.04) 11.4.0
Alpine
Kernel: Depends on container host
Compiler: gcc (Alpine 13.2.1_git20240309) 13.2.1 20240309
To view detailed results, visit:
https://lab.dpdk.org/results/dashboard/patchsets/31680/
UNH-IOL DPDK Community Lab
To manage your email subscriptions, visit:
https://lab.dpdk.org/results/dashboard/preferences/subscriptions/
More information about the test-report
mailing list