|SUCCESS| pw147742 [PATCH] [v4] doc: modernize build instructions on
dpdklab at iol.unh.edu
dpdklab at iol.unh.edu
Sat Nov 2 15:53:08 CET 2024
Test-Label: iol-compile-amd64-testing
Test-Status: SUCCESS
http://dpdk.org/patch/147742
_Testing PASS_
Submitter: Andre Muezerie <andremue at linux.microsoft.com>
Date: Wednesday, October 30 2024 15:19:45
DPDK git baseline: Repo:dpdk
Branch: master
CommitID:2a682d65f8dbe1e8be9cc2425095827e18c700e3
147742 --> testing pass
Upstream job id: Windows-Compile-DPDK-VS#3860
Test environment and result as below:
+---------------------+--------------------+------------------+-------------------+-------------------+
| Environment | dpdk_meson_compile | dpdk_compile_ovs | dpdk_compile_spdk | dpdk_msvc_compile |
+=====================+====================+==================+===================+===================+
| FreeBSD 13.4 | PASS | SKIPPED | SKIPPED | SKIPPED |
+---------------------+--------------------+------------------+-------------------+-------------------+
| FreeBSD 14.1 | PASS | SKIPPED | SKIPPED | SKIPPED |
+---------------------+--------------------+------------------+-------------------+-------------------+
| Debian 12 | PASS | PASS | PASS | SKIPPED |
+---------------------+--------------------+------------------+-------------------+-------------------+
| Fedora 39 (Clang) | PASS | PASS | PASS | SKIPPED |
+---------------------+--------------------+------------------+-------------------+-------------------+
| Fedora 39 | PASS | PASS | PASS | SKIPPED |
+---------------------+--------------------+------------------+-------------------+-------------------+
| Fedora 40 (Clang) | PASS | PASS | PASS | SKIPPED |
+---------------------+--------------------+------------------+-------------------+-------------------+
| Fedora 40 | PASS | PASS | PASS | SKIPPED |
+---------------------+--------------------+------------------+-------------------+-------------------+
| openSUSE Leap 15 | PASS | PASS | SKIPPED | SKIPPED |
+---------------------+--------------------+------------------+-------------------+-------------------+
| RHEL8 | PASS | PASS | SKIPPED | SKIPPED |
+---------------------+--------------------+------------------+-------------------+-------------------+
| RHEL9 | PASS | PASS | SKIPPED | SKIPPED |
+---------------------+--------------------+------------------+-------------------+-------------------+
| Ubuntu 22.04 | PASS | PASS | PASS | SKIPPED |
+---------------------+--------------------+------------------+-------------------+-------------------+
| Ubuntu 24.04 | PASS | PASS | PASS | SKIPPED |
+---------------------+--------------------+------------------+-------------------+-------------------+
| CentOS Stream 9 | PASS | PASS | PASS | SKIPPED |
+---------------------+--------------------+------------------+-------------------+-------------------+
| Ubuntu 20.04 | PASS | PASS | SKIPPED | SKIPPED |
+---------------------+--------------------+------------------+-------------------+-------------------+
| Alpine | PASS | PASS | SKIPPED | SKIPPED |
+---------------------+--------------------+------------------+-------------------+-------------------+
| Windows Server 2022 | SKIPPED | SKIPPED | SKIPPED | PASS |
+---------------------+--------------------+------------------+-------------------+-------------------+
FreeBSD 13.4
Kernel: 13.4-RELEASE-p1
Compiler: clang 18.1.6
FreeBSD 14.1
Kernel: 14.1-RELEASE-p3
Compiler: clang 18.1.5
Debian 12
Kernel: Depends on container host
Compiler: gcc (Debian 12.2.0-14) 12.2.0
Fedora 39 (Clang)
Kernel: Depends on container host
Compiler: clang 17.0.6 (Fedora 17.0.6-2.fc39)
Fedora 39
Kernel: Depends on container host
Compiler: gcc 13.3.1 20240522 (Red Hat 13.3.1-1)
Fedora 40 (Clang)
Kernel: Depends on container host
Compiler: clang 18.1.6 (Fedora 18.1.6-3.fc40)
Fedora 40
Kernel: Depends on container host
Compiler: gcc 14.2.1 20240801 (Red Hat 14.2.1-1)
openSUSE Leap 15
Kernel: Depends on container host
Compiler: gcc (SUSE Linux) 7.5.0
RHEL8
Kernel: Depends on container host
Compiler: gcc 8.5.0 20210514 (Red Hat 8.5.0-22)
RHEL9
Kernel: Depends on container host
Compiler: gcc 11.4.1 20231218 (Red Hat 11.4.1-3)
Ubuntu 22.04
Kernel: Depends on container host
Compiler: gcc (Ubuntu 11.4.0-1ubuntu1~22.04) 11.4.0
Ubuntu 24.04
Kernel: Depends on container host
Compiler: gcc (Ubuntu 13.2.0-23ubuntu4) 13.2.0
CentOS Stream 9
Kernel: Depends on container host
Compiler: gcc 11.4.1 20231218 (Red Hat 11.4.1-3)
Ubuntu 20.04
Kernel: Depends on container host
Compiler: gcc (Ubuntu 9.4.0-1ubuntu1~20.04.2) 9.4.0
Alpine
Kernel: Depends on container host
Compiler: gcc (Alpine 13.2.1_git20240309) 13.2.1 20240309
Windows Server 2022
Kernel: 10.0.20348.2031
Compiler: clang 15.0.7, gcc 14.1.0 (MinGW), and MSVC VS 19.39.33521
To view detailed results, visit:
https://lab.dpdk.org/results/dashboard/patchsets/31776/
UNH-IOL DPDK Community Lab
To manage your email subscriptions, visit:
https://lab.dpdk.org/results/dashboard/preferences/subscriptions/
More information about the test-report
mailing list