|SUCCESS| pw147075-147084 [PATCH] [v14,12/12] crypto/zsda: add zsda
dpdklab at iol.unh.edu
dpdklab at iol.unh.edu
Sun Nov 3 05:07:46 CET 2024
Test-Label: iol-sample-apps-testing
Test-Status: SUCCESS
http://dpdk.org/patch/147084
_Testing PASS_
Submitter: Hanxiao Li <li.hanxiao at zte.com.cn>
Date: Thursday, October 24 2024 08:35:15
DPDK git baseline: Repo:dpdk
Branch: master
CommitID:3ee7a3e0e0e0f5a81a4b102a834697bc488fb32f
147075-147084 --> testing pass
Upstream job id: ACVP-FIPS-testing#7667
Test environment and result as below:
+--------------------+----------------------+----------------------+
| Environment | compressdev_zlib_pmd | dpdk_fips_validation |
+====================+======================+======================+
| Ubuntu 22.04 (ARM) | PASS | SKIPPED |
+--------------------+----------------------+----------------------+
| Ubuntu 22.04 | PASS | SKIPPED |
+--------------------+----------------------+----------------------+
| Ubuntu 20.04 | SKIPPED | PASS |
+--------------------+----------------------+----------------------+
Ubuntu 22.04 (ARM)
Kernel: 5.15.0-97-generic
Compiler: gcc gcc (Ubuntu 11.4.0-1ubuntu1~22.04) 11.4.0
Ubuntu 22.04
Kernel: 5.15.0-100-generic
Compiler: gcc gcc (Ubuntu 11.4.0-1ubuntu1~22.04) 11.4.0
Ubuntu 20.04
Kernel: Depends on container host
Compiler: gcc (Ubuntu 9.4.0-1ubuntu1~20.04.2) 9.4.0
To view detailed results, visit:
https://lab.dpdk.org/results/dashboard/patchsets/31635/
UNH-IOL DPDK Community Lab
To manage your email subscriptions, visit:
https://lab.dpdk.org/results/dashboard/preferences/subscriptions/
More information about the test-report
mailing list