|SUCCESS| pw146621-146630 [PATCH] [v13,12/12] crypto/zsda: add zsda
dpdklab at iol.unh.edu
dpdklab at iol.unh.edu
Sun Nov 3 15:08:43 CET 2024
Test-Label: iol-sample-apps-testing
Test-Status: SUCCESS
http://dpdk.org/patch/146630
_Testing PASS_
Submitter: Junlong Wang <wang.junlong1 at zte.com.cn>
Date: Tuesday, October 22 2024 12:59:18
DPDK git baseline: Repo:dpdk
Branch: master
CommitID:cff6dba7ff8521df410b40399fd8aca5b450a05b
146621-146630 --> testing pass
Upstream job id: ACVP-FIPS-testing#7682
Test environment and result as below:
+--------------------+----------------------+----------------------+
| Environment | compressdev_zlib_pmd | dpdk_fips_validation |
+====================+======================+======================+
| Ubuntu 22.04 (ARM) | PASS | SKIPPED |
+--------------------+----------------------+----------------------+
| Ubuntu 22.04 | PASS | SKIPPED |
+--------------------+----------------------+----------------------+
| Ubuntu 20.04 | SKIPPED | PASS |
+--------------------+----------------------+----------------------+
Ubuntu 22.04 (ARM)
Kernel: 5.15.0-97-generic
Compiler: gcc gcc (Ubuntu 11.4.0-1ubuntu1~22.04) 11.4.0
Ubuntu 22.04
Kernel: 5.15.0-100-generic
Compiler: gcc gcc (Ubuntu 11.4.0-1ubuntu1~22.04) 11.4.0
Ubuntu 20.04
Kernel: Depends on container host
Compiler: gcc (Ubuntu 9.4.0-1ubuntu1~20.04.2) 9.4.0
To view detailed results, visit:
https://lab.dpdk.org/results/dashboard/patchsets/31598/
UNH-IOL DPDK Community Lab
To manage your email subscriptions, visit:
https://lab.dpdk.org/results/dashboard/preferences/subscriptions/
More information about the test-report
mailing list