|SUCCESS| pw147548 [PATCH] [v2] net/mlx5: fix miniCQEs number calcul

dpdklab at iol.unh.edu dpdklab at iol.unh.edu
Mon Nov 4 13:49:23 CET 2024


Test-Label: iol-sample-apps-testing
Test-Status: SUCCESS
http://dpdk.org/patch/147548

_Testing PASS_

Submitter: Alexander Kozyrev <akozyrev at nvidia.com>
Date: Monday, October 28 2024 17:14:56 
DPDK git baseline: Repo:dpdk
  Branch: master
  CommitID:6dad0bb5c8621644beca86ff5f4910a943ba604d

147548 --> testing pass

Upstream job id: ACVP-FIPS-testing#7723

Test environment and result as below:

+--------------------+----------------------+----------------------+
|    Environment     | compressdev_zlib_pmd | dpdk_fips_validation |
+====================+======================+======================+
| Ubuntu 22.04 (ARM) | PASS                 | SKIPPED              |
+--------------------+----------------------+----------------------+
| Ubuntu 22.04       | PASS                 | SKIPPED              |
+--------------------+----------------------+----------------------+
| Ubuntu 20.04       | SKIPPED              | PASS                 |
+--------------------+----------------------+----------------------+


Ubuntu 22.04 (ARM)
	Kernel: 5.15.0-97-generic
	Compiler: gcc gcc (Ubuntu 11.4.0-1ubuntu1~22.04) 11.4.0

Ubuntu 22.04
	Kernel: 5.15.0-100-generic
	Compiler: gcc gcc (Ubuntu 11.4.0-1ubuntu1~22.04) 11.4.0

Ubuntu 20.04
	Kernel: Depends on container host
	Compiler: gcc (Ubuntu 9.4.0-1ubuntu1~20.04.2) 9.4.0

To view detailed results, visit:
https://lab.dpdk.org/results/dashboard/patchsets/31731/

UNH-IOL DPDK Community Lab

To manage your email subscriptions, visit: 
https://lab.dpdk.org/results/dashboard/preferences/subscriptions/


More information about the test-report mailing list