|WARNING| pw147543-147546 [PATCH] [4/4] net/tap: do not use rte_mall

dpdklab at iol.unh.edu dpdklab at iol.unh.edu
Mon Nov 4 17:34:10 CET 2024


Test-Label: iol-sample-apps-testing
Test-Status: WARNING
http://dpdk.org/patch/147546

_Testing issues_

Submitter: Stephen Hemminger <stephen at networkplumber.org>
Date: Monday, October 28 2024 16:32:12 
DPDK git baseline: Repo:dpdk
  Branch: master
  CommitID:1bbd8938e387037baeccfcfa63a8420f0fa30899

147543-147546 --> testing issues

Upstream job id: ACVP-FIPS-testing#7724

Test environment and result as below:

+--------------------+----------------------+----------------------+
|    Environment     | compressdev_zlib_pmd | dpdk_fips_validation |
+====================+======================+======================+
| Ubuntu 22.04 (ARM) | PASS                 | SKIPPED              |
+--------------------+----------------------+----------------------+
| Ubuntu 22.04       | PASS                 | SKIPPED              |
+--------------------+----------------------+----------------------+
| Ubuntu 20.04       | SKIPPED              | WARN                 |
+--------------------+----------------------+----------------------+

==== 20 line log output for Ubuntu 20.04 (dpdk_fips_validation): ====
[2998/3011] Compiling C object examples/dpdk-fips_validation.p/fips_validation_fips_validation_ecdsa.c.o
[2999/3011] Compiling C object examples/dpdk-fips_validation.p/fips_validation_fips_validation.c.o
[3000/3011] Compiling C object examples/dpdk-fips_validation.p/fips_validation_fips_validation_xts.c.o
[3001/3011] Compiling C object examples/dpdk-fips_validation.p/fips_validation_fips_validation_eddsa.c.o
[3002/3011] Compiling C object app/dpdk-test.p/test_test_table_combined.c.o
[3003/3011] Compiling C object examples/dpdk-fips_validation.p/fips_validation_fips_dev_self_test.c.o
[3004/3011] Compiling C object examples/dpdk-fips_validation.p/fips_validation_fips_validation_rsa.c.o
[3005/3011] Compiling C object app/dpdk-test.p/test_virtual_pmd.c.o
[3006/3011] Compiling C object examples/dpdk-fips_validation.p/fips_validation_main.c.o
[3007/3011] Linking target examples/dpdk-fips_validation
[3008/3011] Compiling C object app/dpdk-test.p/test_test_trace_perf.c.o
[3009/3011] Compiling C object app/dpdk-test.p/test_test_ring_perf.c.o
[3010/3011] Compiling C object app/dpdk-test.p/test_test_ring.c.o
[3011/3011] Linking target app/dpdk-test
Processing file ../out/acvp-aes-cbc-vectors.json... Done
Processing file ../out/cmac-aes-vectors.json... Done
Processing file ../out/acvp-aes-gmac-vectors.json... Done
Processing file ../out/hmac-sha-1-vectors.json... Done
Processing file ../out/acvp-tdes-cbc-vectors.json... Done
Processing file ../out/acvp-aes-ctr-vectors.json... Done
==== End log output ====

Ubuntu 22.04 (ARM)
	Kernel: 5.15.0-97-generic
	Compiler: gcc gcc (Ubuntu 11.4.0-1ubuntu1~22.04) 11.4.0

Ubuntu 22.04
	Kernel: 5.15.0-100-generic
	Compiler: gcc gcc (Ubuntu 11.4.0-1ubuntu1~22.04) 11.4.0

Ubuntu 20.04
	Kernel: Depends on container host
	Compiler: gcc (Ubuntu 9.4.0-1ubuntu1~20.04.2) 9.4.0

To view detailed results, visit:
https://lab.dpdk.org/results/dashboard/patchsets/31729/

UNH-IOL DPDK Community Lab

To manage your email subscriptions, visit: 
https://lab.dpdk.org/results/dashboard/preferences/subscriptions/


More information about the test-report mailing list