|SUCCESS| pw147873 [PATCH] [v2] graph: fix memory leak in node clone

dpdklab at iol.unh.edu dpdklab at iol.unh.edu
Wed Nov 6 05:57:21 CET 2024


Test-Label: iol-sample-apps-testing
Test-Status: SUCCESS
http://dpdk.org/patch/147873

_Testing PASS_

Submitter: Pavan Nikhilesh Bhagavatula <pbhagavatula at marvell.com>
Date: Friday, November 01 2024 07:37:37 
DPDK git baseline: Repo:dpdk
  Branch: master
  CommitID:171360df9f89a17f8b4177f01f11fa4473c74099

147873 --> testing pass

Upstream job id: ACVP-FIPS-testing#7775

Test environment and result as below:

+--------------------+----------------------+----------------------+
|    Environment     | compressdev_zlib_pmd | dpdk_fips_validation |
+====================+======================+======================+
| Ubuntu 22.04 (ARM) | PASS                 | SKIPPED              |
+--------------------+----------------------+----------------------+
| Ubuntu 22.04       | PASS                 | SKIPPED              |
+--------------------+----------------------+----------------------+
| Ubuntu 20.04       | SKIPPED              | PASS                 |
+--------------------+----------------------+----------------------+


Ubuntu 22.04 (ARM)
	Kernel: 5.15.0-97-generic
	Compiler: gcc gcc (Ubuntu 11.4.0-1ubuntu1~22.04) 11.4.0

Ubuntu 22.04
	Kernel: 5.15.0-100-generic
	Compiler: gcc gcc (Ubuntu 11.4.0-1ubuntu1~22.04) 11.4.0

Ubuntu 20.04
	Kernel: Depends on container host
	Compiler: gcc (Ubuntu 9.4.0-1ubuntu1~20.04.2) 9.4.0

To view detailed results, visit:
https://lab.dpdk.org/results/dashboard/patchsets/31802/

UNH-IOL DPDK Community Lab

To manage your email subscriptions, visit: 
https://lab.dpdk.org/results/dashboard/preferences/subscriptions/


More information about the test-report mailing list