|SUCCESS| pw148013 [PATCH] [v5] net/ice: fix incorrect reading of PH
dpdklab at iol.unh.edu
dpdklab at iol.unh.edu
Wed Nov 6 18:49:36 CET 2024
Test-Label: iol-unit-arm64-testing
Test-Status: SUCCESS
http://dpdk.org/patch/148013
_Testing PASS_
Submitter: Soumyadeep Hore <soumyadeep.hore at intel.com>
Date: Wednesday, November 06 2024 08:22:29
DPDK git baseline: Repo:dpdk
Branch: master
CommitID:03a7216c65d974367a16c2e4b80b49e31c23364a
148013 --> testing pass
Upstream job id: Generic-Unit-Test-DPDK#288849
Test environment and result as below:
+-----------------------------+--------------+----------------+------------------------------+---------------------------+
| Environment | lpm_autotest | dpdk_unit_test | cryptodev_sw_snow3g_autotest | cryptodev_sw_zuc_autotest |
+=============================+==============+================+==============================+===========================+
| Ubuntu 20.04 ARM SVE | PASS | SKIPPED | SKIPPED | SKIPPED |
+-----------------------------+--------------+----------------+------------------------------+---------------------------+
| Ubuntu 20.04 (ARM) | SKIPPED | PASS | SKIPPED | SKIPPED |
+-----------------------------+--------------+----------------+------------------------------+---------------------------+
| RHEL9 (ARM) | SKIPPED | PASS | SKIPPED | SKIPPED |
+-----------------------------+--------------+----------------+------------------------------+---------------------------+
| CentOS Stream 9 (ARM) | SKIPPED | PASS | SKIPPED | SKIPPED |
+-----------------------------+--------------+----------------+------------------------------+---------------------------+
| Fedora 40 (ARM Clang) | SKIPPED | PASS | SKIPPED | SKIPPED |
+-----------------------------+--------------+----------------+------------------------------+---------------------------+
| Ubuntu 24.04 (ARM) | SKIPPED | PASS | SKIPPED | SKIPPED |
+-----------------------------+--------------+----------------+------------------------------+---------------------------+
| Fedora 39 (ARM) | SKIPPED | PASS | SKIPPED | SKIPPED |
+-----------------------------+--------------+----------------+------------------------------+---------------------------+
| Ubuntu 22.04 (ARM) | SKIPPED | PASS | SKIPPED | SKIPPED |
+-----------------------------+--------------+----------------+------------------------------+---------------------------+
| Fedora 39 (ARM Clang) | SKIPPED | PASS | SKIPPED | SKIPPED |
+-----------------------------+--------------+----------------+------------------------------+---------------------------+
| Debian 12 (arm) | SKIPPED | PASS | PASS | PASS |
+-----------------------------+--------------+----------------+------------------------------+---------------------------+
| Fedora 40 (ARM) | SKIPPED | PASS | SKIPPED | SKIPPED |
+-----------------------------+--------------+----------------+------------------------------+---------------------------+
| 32-bit Ubuntu 22.04.4 (ARM) | SKIPPED | PASS | SKIPPED | SKIPPED |
+-----------------------------+--------------+----------------+------------------------------+---------------------------+
Ubuntu 20.04 ARM SVE
Kernel: Depends on container host
Compiler: gcc (Ubuntu 10.5.0-1ubuntu1~20.04) 10.5.0
Ubuntu 20.04 (ARM)
Kernel: Depends on container host
Compiler: gcc (Ubuntu 9.4.0-1ubuntu1~20.04.2) 9.4.0
RHEL9 (ARM)
Kernel: Depends on container host
Compiler: gcc 11.4.1 20231218 (Red Hat 11.4.1-3)
CentOS Stream 9 (ARM)
Kernel: Depends on container host
Compiler: gcc 11.4.1 20231218 (Red Hat 11.4.1-3)
Fedora 40 (ARM Clang)
Kernel: Depends on container host
Compiler: clang 18.1.6 (Fedora 18.1.6-3.fc40)
Ubuntu 24.04 (ARM)
Kernel: Depends on container host
Compiler: gcc (Ubuntu 13.2.0-23ubuntu4) 13.2.0
Fedora 39 (ARM)
Kernel: Depends on container host
Compiler: gcc 13.3.1 20240522 (Red Hat 13.3.1-1)
Ubuntu 22.04 (ARM)
Kernel: Depends on container host
Compiler: gcc (Ubuntu 11.4.0-1ubuntu1~22.04) 11.4.0
Fedora 39 (ARM Clang)
Kernel: Depends on container host
Compiler: clang 17.0.6 (Fedora 17.0.6-2.fc39)
Debian 12 (arm)
Kernel: Depends on container host
Compiler: gcc (Debian 12.2.0-14) 12.2.0
Fedora 40 (ARM)
Kernel: Depends on container host
Compiler: gcc 14.2.1 20240801 (Red Hat 14.2.1-1)
32-bit Ubuntu 22.04.4 (ARM)
Kernel: 5.15.83+ aarch64
Compiler: gcc (Ubuntu 11.4.0-1ubuntu1~22.04) 11.4.0
To view detailed results, visit:
https://lab.dpdk.org/results/dashboard/patchsets/31835/
UNH-IOL DPDK Community Lab
To manage your email subscriptions, visit:
https://lab.dpdk.org/results/dashboard/preferences/subscriptions/
More information about the test-report
mailing list