|SUCCESS| pw148091-148092 [PATCH] [v3,2/2] examples/l3fwd: fix read

dpdklab at iol.unh.edu dpdklab at iol.unh.edu
Thu Nov 7 22:49:35 CET 2024


Test-Label: iol-compile-amd64-testing
Test-Status: SUCCESS
http://dpdk.org/patch/148092

_Testing PASS_

Submitter: Konstantin Ananyev <konstantin.ananyev at huawei.com>
Date: Thursday, November 07 2024 18:50:52 
DPDK git baseline: Repo:dpdk
  Branch: master
  CommitID:9bbd44d63846cf0771ec0f1c7e1b5a63ec5e9603

148091-148092 --> testing pass

Upstream job id: Generic-DPDK-Compile-Meson#330817

Test environment and result as below:

+---------------------+--------------------+------------------+-------------------+-------------------+-----------------------+
|     Environment     | dpdk_meson_compile | dpdk_compile_ovs | dpdk_compile_spdk | dpdk_msvc_compile | dpdk_win_llvm_compile |
+=====================+====================+==================+===================+===================+=======================+
| Debian 12           | PASS               | PASS             | PASS              | SKIPPED           | SKIPPED               |
+---------------------+--------------------+------------------+-------------------+-------------------+-----------------------+
| CentOS Stream 9     | PASS               | PASS             | PASS              | SKIPPED           | SKIPPED               |
+---------------------+--------------------+------------------+-------------------+-------------------+-----------------------+
| Fedora 40 (Clang)   | PASS               | PASS             | PASS              | SKIPPED           | SKIPPED               |
+---------------------+--------------------+------------------+-------------------+-------------------+-----------------------+
| Fedora 39 (Clang)   | PASS               | PASS             | PASS              | SKIPPED           | SKIPPED               |
+---------------------+--------------------+------------------+-------------------+-------------------+-----------------------+
| Fedora 39           | PASS               | PASS             | PASS              | SKIPPED           | SKIPPED               |
+---------------------+--------------------+------------------+-------------------+-------------------+-----------------------+
| RHEL9               | PASS               | PASS             | SKIPPED           | SKIPPED           | SKIPPED               |
+---------------------+--------------------+------------------+-------------------+-------------------+-----------------------+
| Ubuntu 20.04        | PASS               | PASS             | SKIPPED           | SKIPPED           | SKIPPED               |
+---------------------+--------------------+------------------+-------------------+-------------------+-----------------------+
| openSUSE Leap 15    | PASS               | PASS             | SKIPPED           | SKIPPED           | SKIPPED               |
+---------------------+--------------------+------------------+-------------------+-------------------+-----------------------+
| Ubuntu 22.04        | PASS               | PASS             | PASS              | SKIPPED           | SKIPPED               |
+---------------------+--------------------+------------------+-------------------+-------------------+-----------------------+
| Fedora 40           | PASS               | PASS             | PASS              | SKIPPED           | SKIPPED               |
+---------------------+--------------------+------------------+-------------------+-------------------+-----------------------+
| RHEL8               | PASS               | PASS             | SKIPPED           | SKIPPED           | SKIPPED               |
+---------------------+--------------------+------------------+-------------------+-------------------+-----------------------+
| Ubuntu 24.04        | PASS               | PASS             | PASS              | SKIPPED           | SKIPPED               |
+---------------------+--------------------+------------------+-------------------+-------------------+-----------------------+
| Alpine              | PASS               | PASS             | SKIPPED           | SKIPPED           | SKIPPED               |
+---------------------+--------------------+------------------+-------------------+-------------------+-----------------------+
| FreeBSD 13.4        | PASS               | SKIPPED          | SKIPPED           | SKIPPED           | SKIPPED               |
+---------------------+--------------------+------------------+-------------------+-------------------+-----------------------+
| FreeBSD 14.1        | PASS               | SKIPPED          | SKIPPED           | SKIPPED           | SKIPPED               |
+---------------------+--------------------+------------------+-------------------+-------------------+-----------------------+
| Windows Server 2022 | SKIPPED            | SKIPPED          | SKIPPED           | PASS              | PASS                  |
+---------------------+--------------------+------------------+-------------------+-------------------+-----------------------+


Debian 12
	Kernel: Depends on container host
	Compiler: gcc (Debian 12.2.0-14) 12.2.0

CentOS Stream 9
	Kernel: Depends on container host
	Compiler: gcc 11.4.1 20231218 (Red Hat 11.4.1-3)

Fedora 40 (Clang)
	Kernel: Depends on container host
	Compiler: clang 18.1.6 (Fedora 18.1.6-3.fc40)

Fedora 39 (Clang)
	Kernel: Depends on container host
	Compiler: clang 17.0.6 (Fedora 17.0.6-2.fc39)

Fedora 39
	Kernel: Depends on container host
	Compiler: gcc 13.3.1 20240522 (Red Hat 13.3.1-1)

RHEL9
	Kernel: Depends on container host
	Compiler: gcc 11.4.1 20231218 (Red Hat 11.4.1-3)

Ubuntu 20.04
	Kernel: Depends on container host
	Compiler: gcc (Ubuntu 9.4.0-1ubuntu1~20.04.2) 9.4.0

openSUSE Leap 15
	Kernel: Depends on container host
	Compiler: gcc (SUSE Linux) 7.5.0

Ubuntu 22.04
	Kernel: Depends on container host
	Compiler: gcc (Ubuntu 11.4.0-1ubuntu1~22.04) 11.4.0

Fedora 40
	Kernel: Depends on container host
	Compiler: gcc 14.2.1 20240801 (Red Hat 14.2.1-1)

RHEL8
	Kernel: Depends on container host
	Compiler: gcc 8.5.0 20210514 (Red Hat 8.5.0-22)

Ubuntu 24.04
	Kernel: Depends on container host
	Compiler: gcc (Ubuntu 13.2.0-23ubuntu4) 13.2.0

Alpine
	Kernel: Depends on container host
	Compiler: gcc (Alpine 13.2.1_git20240309) 13.2.1 20240309

FreeBSD 13.4
	Kernel: 13.4-RELEASE-p1
	Compiler: clang 18.1.6

FreeBSD 14.1
	Kernel: 14.1-RELEASE-p3
	Compiler: clang 18.1.5

Windows Server 2022
	Kernel: 10.0.20348.2031
	Compiler: clang 15.0.7, gcc 14.1.0 (MinGW), and MSVC VS 19.39.33521

To view detailed results, visit:
https://lab.dpdk.org/results/dashboard/patchsets/31851/

UNH-IOL DPDK Community Lab

To manage your email subscriptions, visit: 
https://lab.dpdk.org/results/dashboard/preferences/subscriptions/


More information about the test-report mailing list